BEGIN:VCALENDAR
VERSION:2.0
PRODID:-//dsnmc.org//NONSGML kigkonsult.se iCalcreator 2.30.10//
CALSCALE:GREGORIAN
METHOD:PUBLISH
UID:82e7b1ef-f2b2-4fcf-a54c-2f56ac9f3dcf
X-WR-CALDESC:Teen hangout won't be meeting this week.  Our next meeting wil
 l be on July 11th.
X-WR-RELCALID:58e1441fec47bce77e547d7de12c0220
X-WR-TIMEZONE:America/New_York
BEGIN:VTIMEZONE
TZID:America/New_York
BEGIN:STANDARD
TZNAME:EST
DTSTART:20231105T020000
TZOFFSETFROM:-0400
TZOFFSETTO:-0500
RDATE:20241103T020000
RDATE:20251102T020000
END:STANDARD
BEGIN:DAYLIGHT
TZNAME:EDT
DTSTART:20240310T020000
TZOFFSETFROM:-0500
TZOFFSETTO:-0400
RDATE:20250309T020000
END:DAYLIGHT
END:VTIMEZONE
BEGIN:VEVENT
UID:88d54bf7-9d5a-46e2-b3b1-7e1e9c912d67
DTSTAMP:20260419T223231Z
DESCRIPTION:Teen hangout won't be meeting this week.  Our next meeting will
  be on July 11th.
DTSTART;TZID=America/New_York:20240627T183000
DTEND;TZID=America/New_York:20240627T190000
LOCATION:https://us02web.zoom.us/j/83919769645
SUMMARY:No Teen Hangout today
END:VEVENT
END:VCALENDAR
