BEGIN:VCALENDAR
VERSION:2.0
PRODID:-//dsnmc.org//NONSGML kigkonsult.se iCalcreator 2.30.10//
CALSCALE:GREGORIAN
METHOD:PUBLISH
UID:14537692-9f92-43c7-97ae-25e38d929c37
X-WR-CALDESC:Come enjoy a playgroup at Potomac Woods Park with our other ne
 w and young families. Bring snacks\, water and sunscreen (although there s
 hould be shade). Maybe even pack a lunch and stay a little longer. Parking
  and restrooms available.
X-WR-RELCALID:c4cc8f83822efbe5859c7d860618e9b1
X-WR-TIMEZONE:America/New_York
BEGIN:VTIMEZONE
TZID:America/New_York
BEGIN:STANDARD
TZNAME:EST
DTSTART:20231105T020000
TZOFFSETFROM:-0400
TZOFFSETTO:-0500
RDATE:20241103T020000
RDATE:20251102T020000
END:STANDARD
BEGIN:DAYLIGHT
TZNAME:EDT
DTSTART:20240310T020000
TZOFFSETFROM:-0500
TZOFFSETTO:-0400
RDATE:20250309T020000
END:DAYLIGHT
END:VTIMEZONE
BEGIN:VEVENT
UID:87fbbd1b-e59a-4964-92a2-0f8467b2b28c
DTSTAMP:20260419T210645Z
DESCRIPTION:Come enjoy a playgroup at Potomac Woods Park with our other new
  and young families. Bring snacks\, water and sunscreen (although there sh
 ould be shade). Maybe even pack a lunch and stay a little longer. Parking 
 and restrooms available.
DTSTART;TZID=America/New_York:20240706T100000
DTEND;TZID=America/New_York:20240706T120000
LOCATION:1380 Stratton Dr\, Rockville\, MD 20854 US
SUMMARY:Playgroup at the Park
END:VEVENT
END:VCALENDAR
