BEGIN:VCALENDAR
VERSION:2.0
PRODID:-//dsnmc.org//NONSGML kigkonsult.se iCalcreator 2.30.10//
CALSCALE:GREGORIAN
METHOD:PUBLISH
UID:6e6735d9-2598-464e-9ad4-7a3d856e9293
X-WR-CALDESC:Play mini golf and cool off with DSNMC on Thursday\, July 11th
  at the Germantown SplashPark! Both the SplashPark and the mini golf cours
 e are reserved just for DSNMC families from 6-8 pm.\n\nTickets are $4.00 p
 er person\, and this fee covers the cost of both the SplashPark and the mi
 ni golf course. (All patrons age two and up who come into the SplashPark m
 ust pay admission).\n\nBring your own picnic dinner - as well as bathing s
 uits and towels.\n\nThis event will occur rain or shine. During rainy days
 \, the SplashPark will remain open except in the case of extreme weather c
 onditions (thunder and lightning).\n\nWe hope to see you there!\n
X-WR-RELCALID:eff861d163253e8b73f5183daedb8cc0
X-WR-TIMEZONE:America/New_York
BEGIN:VTIMEZONE
TZID:America/New_York
BEGIN:STANDARD
TZNAME:EST
DTSTART:20231105T020000
TZOFFSETFROM:-0400
TZOFFSETTO:-0500
RDATE:20241103T020000
RDATE:20251102T020000
END:STANDARD
BEGIN:DAYLIGHT
TZNAME:EDT
DTSTART:20240310T020000
TZOFFSETFROM:-0500
TZOFFSETTO:-0400
RDATE:20250309T020000
END:DAYLIGHT
END:VTIMEZONE
BEGIN:VEVENT
UID:6bfe52ea-df81-4cc8-b03d-03d4653945eb
DTSTAMP:20260419T210810Z
DESCRIPTION:Play mini golf and cool off with DSNMC on Thursday\, July 11th 
 at the Germantown SplashPark! Both the SplashPark and the mini golf course
  are reserved just for DSNMC families from 6-8 pm.\n\nTickets are $4.00 pe
 r person\, and this fee covers the cost of both the SplashPark and the min
 i golf course. (All patrons age two and up who come into the SplashPark mu
 st pay admission).\n\nBring your own picnic dinner - as well as bathing su
 its and towels.\n\nThis event will occur rain or shine. During rainy days\
 , the SplashPark will remain open except in the case of extreme weather co
 nditions (thunder and lightning).\n\nWe hope to see you there!\n
DTSTART;TZID=America/New_York:20240711T180000
DTEND;TZID=America/New_York:20240711T200000
LOCATION:South Germantown Recreational Park\, 18056 Central Park Circle\, B
 oyds\, MD 20841 US
SUMMARY:DSNMC SplashPark and Mini Golf Family Outing
END:VEVENT
END:VCALENDAR
