BEGIN:VCALENDAR
VERSION:2.0
PRODID:-//dsnmc.org//NONSGML kigkonsult.se iCalcreator 2.30.10//
CALSCALE:GREGORIAN
METHOD:PUBLISH
UID:548241fc-c6d9-4e50-8541-48e603c32311
X-WR-CALDESC:
X-WR-RELCALID:cf093533b51830517564ebc544f9a977
X-WR-TIMEZONE:America/New_York
BEGIN:VTIMEZONE
TZID:America/New_York
BEGIN:STANDARD
TZNAME:EST
DTSTART:20231105T020000
TZOFFSETFROM:-0400
TZOFFSETTO:-0500
RDATE:20241103T020000
RDATE:20251102T020000
END:STANDARD
BEGIN:DAYLIGHT
TZNAME:EDT
DTSTART:20240310T020000
TZOFFSETFROM:-0500
TZOFFSETTO:-0400
RDATE:20250309T020000
END:DAYLIGHT
END:VTIMEZONE
BEGIN:VEVENT
UID:c98fe950-bc42-4216-82c7-69b7c977341e
DTSTAMP:20260419T210646Z
DESCRIPTION:
DTSTART;TZID=America/New_York:20240715T193000
DTEND;TZID=America/New_York:20240715T210000
LOCATION:
SUMMARY:Board Meeting
END:VEVENT
END:VCALENDAR
