BEGIN:VCALENDAR
VERSION:2.0
PRODID:-//dsnmc.org//NONSGML kigkonsult.se iCalcreator 2.30.10//
CALSCALE:GREGORIAN
METHOD:PUBLISH
UID:2a0a8997-8a3b-43a7-af71-e00b928b1250
X-WR-CALDESC:Do you want to jam with great live music? Well\, you are in lu
 ck. The Rockville Town Center is hosting a concert on July 19 from 6-9. Jo
 in the Community Network for a night of music and fun. This event is for a
 ges 18 and up.  Please be sure to pre-register- Adrian and Katie will meet
  you there!
X-WR-RELCALID:8f3c48d8074cc02bc1efdd3941884002
X-WR-TIMEZONE:America/New_York
BEGIN:VTIMEZONE
TZID:America/New_York
BEGIN:STANDARD
TZNAME:EST
DTSTART:20231105T020000
TZOFFSETFROM:-0400
TZOFFSETTO:-0500
RDATE:20241103T020000
RDATE:20251102T020000
END:STANDARD
BEGIN:DAYLIGHT
TZNAME:EDT
DTSTART:20240310T020000
TZOFFSETFROM:-0500
TZOFFSETTO:-0400
RDATE:20250309T020000
END:DAYLIGHT
END:VTIMEZONE
BEGIN:VEVENT
UID:517b94a2-d97a-42aa-864e-2ee49c0e512a
DTSTAMP:20260419T210748Z
DESCRIPTION:Do you want to jam with great live music? Well\, you are in luc
 k. The Rockville Town Center is hosting a concert on July 19 from 6-9. Joi
 n the Community Network for a night of music and fun. This event is for ag
 es 18 and up.  Please be sure to pre-register- Adrian and Katie will meet 
 you there!
DTSTART;TZID=America/New_York:20240719T180000
DTEND;TZID=America/New_York:20240719T210000
LOCATION:
SUMMARY:Music in the square
END:VEVENT
END:VCALENDAR
