BEGIN:VCALENDAR
VERSION:2.0
PRODID:-//dsnmc.org//NONSGML kigkonsult.se iCalcreator 2.30.10//
CALSCALE:GREGORIAN
METHOD:PUBLISH
UID:67b5b8a8-9c59-44f1-87c5-7ae4f72dd070
X-WR-CALDESC:Meet up with other DSNMC dads for delicious Mexican food at Ta
 cos Don Perez\, an outdoor eatery in Glenmont. We'll meet near the food tr
 uck before ordering and finding a picnic table. Wear a DSNMC shirt (or blu
 e and yellow) for easy identification.\n\nPlease note Tacos Don Perez has 
 two locations so make sure you plug in the correct one to your GPS!
X-WR-RELCALID:08f44b57108858bc6a8fdc58b7d02ab0
X-WR-TIMEZONE:America/New_York
BEGIN:VTIMEZONE
TZID:America/New_York
BEGIN:STANDARD
TZNAME:EST
DTSTART:20231105T020000
TZOFFSETFROM:-0400
TZOFFSETTO:-0500
RDATE:20241103T020000
RDATE:20251102T020000
END:STANDARD
BEGIN:DAYLIGHT
TZNAME:EDT
DTSTART:20240310T020000
TZOFFSETFROM:-0500
TZOFFSETTO:-0400
RDATE:20250309T020000
END:DAYLIGHT
END:VTIMEZONE
BEGIN:VEVENT
UID:0c720178-931d-45c1-970a-c5ed2f35793d
DTSTAMP:20260419T210741Z
DESCRIPTION:Meet up with other DSNMC dads for delicious Mexican food at Tac
 os Don Perez\, an outdoor eatery in Glenmont. We'll meet near the food tru
 ck before ordering and finding a picnic table. Wear a DSNMC shirt (or blue
  and yellow) for easy identification.\n\nPlease note Tacos Don Perez has t
 wo locations so make sure you plug in the correct one to your GPS!
DTSTART;TZID=America/New_York:20240720T180000
DTEND;TZID=America/New_York:20240720T200000
LOCATION:12321 Georgia Ave\, Silver Spring\, MD 20906 US
SUMMARY:DSNMC Dads Taco Night
END:VEVENT
END:VCALENDAR
