BEGIN:VCALENDAR
VERSION:2.0
PRODID:-//dsnmc.org//NONSGML kigkonsult.se iCalcreator 2.30.10//
CALSCALE:GREGORIAN
METHOD:PUBLISH
UID:bc7f2c8d-c99c-487b-abbc-d688d4810ec1
X-WR-CALDESC:
X-WR-RELCALID:3d953ecb4a6cd3455a497cac1c9f3c4a
X-WR-TIMEZONE:America/New_York
BEGIN:VTIMEZONE
TZID:America/New_York
BEGIN:STANDARD
TZNAME:EST
DTSTART:20231105T020000
TZOFFSETFROM:-0400
TZOFFSETTO:-0500
RDATE:20241103T020000
RDATE:20251102T020000
END:STANDARD
BEGIN:DAYLIGHT
TZNAME:EDT
DTSTART:20240310T020000
TZOFFSETFROM:-0500
TZOFFSETTO:-0400
RDATE:20250309T020000
END:DAYLIGHT
END:VTIMEZONE
BEGIN:VEVENT
UID:1303f4f0-26b8-4249-a74d-0011abb7c670
DTSTAMP:20260419T210916Z
DESCRIPTION:
DTSTART;TZID=America/New_York:20240721T180000
DTEND;TZID=America/New_York:20240721T200000
LOCATION:5000 Olney Laytonsville RD\, Olney\, MD 20832 US
SUMMARY:New Family Outreach Committee Outing
END:VEVENT
END:VCALENDAR
