BEGIN:VCALENDAR
VERSION:2.0
PRODID:-//dsnmc.org//NONSGML kigkonsult.se iCalcreator 2.30.10//
CALSCALE:GREGORIAN
METHOD:PUBLISH
UID:d71b4c47-36ee-42ca-bc4f-a6a664390e75
X-WR-CALDESC:This committee will discuss goals\, objectives and strategies 
 to support the needs of our transitioning youth families.\n\nJoin Zoom Mee
 ting\nhttps://us02web.zoom.us/j/85459406072?pwd=dkJBeGc2WVN0M0tRQyt5V1NpWE
 Mydz09\n\nMeeting ID: 854 5940 6072\nPasscode: 571463
X-WR-RELCALID:642a130b514d9d90d26f4c84a212c2b3
X-WR-TIMEZONE:America/New_York
BEGIN:VTIMEZONE
TZID:America/New_York
BEGIN:STANDARD
TZNAME:EST
DTSTART:20231105T020000
TZOFFSETFROM:-0400
TZOFFSETTO:-0500
RDATE:20241103T020000
RDATE:20251102T020000
END:STANDARD
BEGIN:DAYLIGHT
TZNAME:EDT
DTSTART:20240310T020000
TZOFFSETFROM:-0500
TZOFFSETTO:-0400
RDATE:20250309T020000
END:DAYLIGHT
END:VTIMEZONE
BEGIN:VEVENT
UID:41ca9de9-bbff-4af1-a76d-7cf8ecb398b2
DTSTAMP:20260419T210956Z
DESCRIPTION:This committee will discuss goals\, objectives and strategies t
 o support the needs of our transitioning youth families.\n\nJoin Zoom Meet
 ing\nhttps://us02web.zoom.us/j/85459406072?pwd=dkJBeGc2WVN0M0tRQyt5V1NpWEM
 ydz09\n\nMeeting ID: 854 5940 6072\nPasscode: 571463
DTSTART;TZID=America/New_York:20240725T190000
DTEND;TZID=America/New_York:20240725T200000
LOCATION:
SUMMARY:Transitioning Youth and Adult Committee
END:VEVENT
END:VCALENDAR
