BEGIN:VCALENDAR
VERSION:2.0
PRODID:-//dsnmc.org//NONSGML kigkonsult.se iCalcreator 2.30.10//
CALSCALE:GREGORIAN
METHOD:PUBLISH
UID:48b4cae8-3ab0-4728-b9db-cd41b141fbba
X-WR-CALDESC:Join us for an interactive discussion on how and why you shoul
 d create a vision for your child and learn how to create an “All About Me”
  resource for school aged kiddo’s to share as a one-page profile for speci
 al education and beyond.\n\n\nCharting the LifeCourse is a framework that 
 was developed to help individuals and families of all abilities and at any
  age or stage of life develop a vision for a good life\, think about what 
 they need to know and do\, identify how to find or develop supports\, and 
 discover what it takes to live the lives they want to live. Individuals an
 d families may focus on their current situation and stage of life but may 
 also find it helpful to look ahead to start thinking about life experience
 s now that will help move them toward an inclusive\, productive life in th
 e future.\n\n\nAn All About Me profile is used by many parents and individ
 uals with IDD to create a brief visual one-pager to help jump start a succ
 essful relationship with teachers\, therapists\, camp counselors and other
  providers. It  is a personal introduction which generally shares the stud
 ent’s (or family) vision statement\, their strengths and support needs\, a
 s well as preferences and interests. Much shorter and more accessible than
  an IEP\, it is a person-centered document which can be customized for dif
 ferent activities or settings. By sharing a positively-focussed summary of
  what is important to and about the individual and how they can best be su
 pported\, it helps both the student/participant and provider to put their 
 best foot forward as they begin working together.
X-WR-RELCALID:c376c5953762815752ac06e924effaf4
X-WR-TIMEZONE:America/New_York
BEGIN:VTIMEZONE
TZID:America/New_York
BEGIN:STANDARD
TZNAME:EST
DTSTART:20231105T020000
TZOFFSETFROM:-0400
TZOFFSETTO:-0500
RDATE:20241103T020000
RDATE:20251102T020000
END:STANDARD
BEGIN:DAYLIGHT
TZNAME:EDT
DTSTART:20240310T020000
TZOFFSETFROM:-0500
TZOFFSETTO:-0400
RDATE:20250309T020000
END:DAYLIGHT
END:VTIMEZONE
BEGIN:VEVENT
UID:0ea845ca-27d5-41a1-826d-63bd7f8591b4
DTSTAMP:20260419T210741Z
DESCRIPTION:Join us for an interactive discussion on how and why you should
  create a vision for your child and learn how to create an “All About Me” 
 resource for school aged kiddo’s to share as a one-page profile for specia
 l education and beyond.\n\n\nCharting the LifeCourse is a framework that w
 as developed to help individuals and families of all abilities and at any 
 age or stage of life develop a vision for a good life\, think about what t
 hey need to know and do\, identify how to find or develop supports\, and d
 iscover what it takes to live the lives they want to live. Individuals and
  families may focus on their current situation and stage of life but may a
 lso find it helpful to look ahead to start thinking about life experiences
  now that will help move them toward an inclusive\, productive life in the
  future.\n\n\nAn All About Me profile is used by many parents and individu
 als with IDD to create a brief visual one-pager to help jump start a succe
 ssful relationship with teachers\, therapists\, camp counselors and other 
 providers. It  is a personal introduction which generally shares the stude
 nt’s (or family) vision statement\, their strengths and support needs\, as
  well as preferences and interests. Much shorter and more accessible than 
 an IEP\, it is a person-centered document which can be customized for diff
 erent activities or settings. By sharing a positively-focussed summary of 
 what is important to and about the individual and how they can best be sup
 ported\, it helps both the student/participant and provider to put their b
 est foot forward as they begin working together.
DTSTART;TZID=America/New_York:20240729T193000
DTEND;TZID=America/New_York:20240729T210000
LOCATION:
SUMMARY:All About Me/Life Trajectory
END:VEVENT
END:VCALENDAR
