BEGIN:VCALENDAR
VERSION:2.0
PRODID:-//dsnmc.org//NONSGML kigkonsult.se iCalcreator 2.30.10//
CALSCALE:GREGORIAN
METHOD:PUBLISH
UID:0c9e77bd-1f3e-4b04-b54b-496466413534
X-WR-CALDESC:The Parreco family would like to invite our families of younge
 r kids (Birth - 6) to swim in their pool in Rockville. Come cool off with 
 the family and hang out with friends from DSNMC.\n\nThere is a screened in
  porch if the weather turns poor.\nAlong with your sunscreen\, swim clothe
 s and towels\, the family requests that you bring floaties as needed and h
 ave water shoes as the pool deck may get slippery.\nThe address will be pr
 ovided after you register.\n\nPlease reach out to Kristi - newfamilies@dsn
 mc.org - if you have any questions or need help registering. If you would 
 like to speak with someone in Spanish\, please contact Angie - intern2@dsn
 mc.org.\n\n---\nLa familia Parreco desea invitar a nuestras familias de ni
 ños más pequeños (desde nacimiento a 6 años) a nadar en su piscina en Rock
 ville. Ven a refrescarte con la familia y pasa el rato con amigos de DSNMC
 .\n\nHay un porche cubierto si el tiempo empeora.\nAdemás de su protector 
 solar\, ropa de baño y toallas\, la familia solicita que traiga flotadores
  según sea necesario y zapatos para el agua\, ya que la plataforma de la p
 iscina puede volverse resbaladiza.\n\nLa dirección se le proporcionará des
 pués de registrarse.\n\nComuníquese con Kristi - newfamilies@dsnmc.org - s
 i tiene alguna pregunta o necesita ayuda para registrarse. Si desea hablar
  con alguien en español\, comuníquese con Angie - intern@dsnmc.org.
X-WR-RELCALID:efd7c2eb30f7b5bbb56c06d0d1e556ba
X-WR-TIMEZONE:America/New_York
BEGIN:VTIMEZONE
TZID:America/New_York
BEGIN:STANDARD
TZNAME:EST
DTSTART:20231105T020000
TZOFFSETFROM:-0400
TZOFFSETTO:-0500
RDATE:20241103T020000
RDATE:20251102T020000
END:STANDARD
BEGIN:DAYLIGHT
TZNAME:EDT
DTSTART:20240310T020000
TZOFFSETFROM:-0500
TZOFFSETTO:-0400
RDATE:20250309T020000
END:DAYLIGHT
END:VTIMEZONE
BEGIN:VEVENT
UID:b84ff253-a146-4616-b1e6-317557fa5dc5
DTSTAMP:20260419T195502Z
DESCRIPTION:The Parreco family would like to invite our families of younger
  kids (Birth - 6) to swim in their pool in Rockville. Come cool off with t
 he family and hang out with friends from DSNMC.\n\nThere is a screened in 
 porch if the weather turns poor.\nAlong with your sunscreen\, swim clothes
  and towels\, the family requests that you bring floaties as needed and ha
 ve water shoes as the pool deck may get slippery.\nThe address will be pro
 vided after you register.\n\nPlease reach out to Kristi - newfamilies@dsnm
 c.org - if you have any questions or need help registering. If you would l
 ike to speak with someone in Spanish\, please contact Angie - intern2@dsnm
 c.org.\n\n---\nLa familia Parreco desea invitar a nuestras familias de niñ
 os más pequeños (desde nacimiento a 6 años) a nadar en su piscina en Rockv
 ille. Ven a refrescarte con la familia y pasa el rato con amigos de DSNMC.
 \n\nHay un porche cubierto si el tiempo empeora.\nAdemás de su protector s
 olar\, ropa de baño y toallas\, la familia solicita que traiga flotadores 
 según sea necesario y zapatos para el agua\, ya que la plataforma de la pi
 scina puede volverse resbaladiza.\n\nLa dirección se le proporcionará desp
 ués de registrarse.\n\nComuníquese con Kristi - newfamilies@dsnmc.org - si
  tiene alguna pregunta o necesita ayuda para registrarse. Si desea hablar 
 con alguien en español\, comuníquese con Angie - intern@dsnmc.org.
DTSTART;TZID=America/New_York:20240804T103000
DTEND;TZID=America/New_York:20240804T123000
LOCATION:The Parreco's In Rockville
SUMMARY:New Family Playgroup at the Pool
END:VEVENT
END:VCALENDAR
