BEGIN:VCALENDAR
VERSION:2.0
PRODID:-//dsnmc.org//NONSGML kigkonsult.se iCalcreator 2.30.10//
CALSCALE:GREGORIAN
METHOD:PUBLISH
UID:6a565131-fccc-4dfa-89d0-f76c4fe4874e
X-WR-CALDESC:Join the Self Advocate Community Network for the sweet taste o
 f Ice Cream and a chat with friends. We will discuss the progress and futu
 re direction of the SACN. Come make your voice heard!
X-WR-RELCALID:de17086b8aefc5f18cf6e282e9647bee
X-WR-TIMEZONE:America/New_York
BEGIN:VTIMEZONE
TZID:America/New_York
BEGIN:STANDARD
TZNAME:EST
DTSTART:20231105T020000
TZOFFSETFROM:-0400
TZOFFSETTO:-0500
RDATE:20241103T020000
RDATE:20251102T020000
END:STANDARD
BEGIN:DAYLIGHT
TZNAME:EDT
DTSTART:20240310T020000
TZOFFSETFROM:-0500
TZOFFSETTO:-0400
RDATE:20250309T020000
END:DAYLIGHT
END:VTIMEZONE
BEGIN:VEVENT
UID:e9dd8c75-1f80-46cf-9801-da83f8b63b3f
DTSTAMP:20260419T195425Z
DESCRIPTION:Join the Self Advocate Community Network for the sweet taste of
  Ice Cream and a chat with friends. We will discuss the progress and futur
 e direction of the SACN. Come make your voice heard!
DTSTART;TZID=America/New_York:20240810T130000
DTEND;TZID=America/New_York:20240810T150000
LOCATION:6301 River Road\, Bethesda\, MD 20817 US
SUMMARY:Self Advocate Community Network Ice Cream Social
END:VEVENT
END:VCALENDAR
