BEGIN:VCALENDAR
VERSION:2.0
PRODID:-//dsnmc.org//NONSGML kigkonsult.se iCalcreator 2.30.10//
CALSCALE:GREGORIAN
METHOD:PUBLISH
UID:a829d0cc-9c5f-4176-8331-13fcad2e69fd
X-WR-CALDESC:Join DSNMC for a morning of swimming! The Cedarbrook Swim and 
 Tennis Club is open to DSNMC families on Sunday morning\, August 11\, from
  10 am to 12 noon. The pool offers a 6-lane competition pool and a large d
 iving well with a water slide and diving board. They also offer a shaded k
 iddie-wading pool and playground for their youngest guests.\n\nIn order to
  ensure that we have enough lifeguards to keep everyone safe\, registratio
 n for this event will close on Wednesday\, August 7th.
X-WR-RELCALID:72db6d8c6ed89821729d2c77be4515ec
X-WR-TIMEZONE:America/New_York
BEGIN:VTIMEZONE
TZID:America/New_York
BEGIN:STANDARD
TZNAME:EST
DTSTART:20231105T020000
TZOFFSETFROM:-0400
TZOFFSETTO:-0500
RDATE:20241103T020000
RDATE:20251102T020000
END:STANDARD
BEGIN:DAYLIGHT
TZNAME:EDT
DTSTART:20240310T020000
TZOFFSETFROM:-0500
TZOFFSETTO:-0400
RDATE:20250309T020000
END:DAYLIGHT
END:VTIMEZONE
BEGIN:VEVENT
UID:8a09ad0b-a0d7-4c14-8602-5a202059929b
DTSTAMP:20260419T195425Z
DESCRIPTION:Join DSNMC for a morning of swimming! The Cedarbrook Swim and T
 ennis Club is open to DSNMC families on Sunday morning\, August 11\, from 
 10 am to 12 noon. The pool offers a 6-lane competition pool and a large di
 ving well with a water slide and diving board. They also offer a shaded ki
 ddie-wading pool and playground for their youngest guests.\n\nIn order to 
 ensure that we have enough lifeguards to keep everyone safe\, registration
  for this event will close on Wednesday\, August 7th.
DTSTART;TZID=America/New_York:20240811T100000
DTEND;TZID=America/New_York:20240811T120000
LOCATION:Cedarbrook Swim and Tennis Club\, 10150 Cedar Lane\, Kensington\, 
 MD 20895 US
SUMMARY:Family Pool Party
END:VEVENT
END:VCALENDAR
