BEGIN:VCALENDAR
VERSION:2.0
PRODID:-//dsnmc.org//NONSGML kigkonsult.se iCalcreator 2.30.10//
CALSCALE:GREGORIAN
METHOD:PUBLISH
UID:35cd4c23-b991-41b3-9b98-187cbfa9f07a
X-WR-CALDESC:
X-WR-RELCALID:767449d274d52f97bc8c7d98214c4a05
X-WR-TIMEZONE:America/New_York
BEGIN:VTIMEZONE
TZID:America/New_York
BEGIN:STANDARD
TZNAME:EST
DTSTART:20231105T020000
TZOFFSETFROM:-0400
TZOFFSETTO:-0500
RDATE:20241103T020000
RDATE:20251102T020000
END:STANDARD
BEGIN:DAYLIGHT
TZNAME:EDT
DTSTART:20240310T020000
TZOFFSETFROM:-0500
TZOFFSETTO:-0400
RDATE:20250309T020000
END:DAYLIGHT
END:VTIMEZONE
BEGIN:VEVENT
UID:1babf3af-ea30-4f6a-af07-d35df210819d
DTSTAMP:20260419T195207Z
DESCRIPTION:
DTSTART;TZID=America/New_York:20240819T193000
DTEND;TZID=America/New_York:20240819T210000
LOCATION:
SUMMARY:Board Meeting
END:VEVENT
END:VCALENDAR
