BEGIN:VCALENDAR
VERSION:2.0
PRODID:-//dsnmc.org//NONSGML kigkonsult.se iCalcreator 2.30.10//
CALSCALE:GREGORIAN
METHOD:PUBLISH
UID:805a647f-849e-4a2e-bf38-74ee4fe7fd63
X-WR-CALDESC:All DSNMC members are invited to participate in the Step UP Wa
 lk Planning Committee. Please email Angela Della to receive the zoom link 
 for this meeting.
X-WR-RELCALID:7b71b8a41a27d688e5990da6062b3ec7
X-WR-TIMEZONE:America/New_York
BEGIN:VTIMEZONE
TZID:America/New_York
BEGIN:STANDARD
TZNAME:EST
DTSTART:20231105T020000
TZOFFSETFROM:-0400
TZOFFSETTO:-0500
RDATE:20241103T020000
RDATE:20251102T020000
END:STANDARD
BEGIN:DAYLIGHT
TZNAME:EDT
DTSTART:20240310T020000
TZOFFSETFROM:-0500
TZOFFSETTO:-0400
RDATE:20250309T020000
END:DAYLIGHT
END:VTIMEZONE
BEGIN:VEVENT
UID:dca8bc94-c606-4ea5-b422-1fafeab77d45
DTSTAMP:20260419T195502Z
DESCRIPTION:All DSNMC members are invited to participate in the Step UP Wal
 k Planning Committee. Please email Angela Della to receive the zoom link f
 or this meeting.
DTSTART;TZID=America/New_York:20240820T190000
DTEND;TZID=America/New_York:20240820T203000
LOCATION:
SUMMARY:Step Up Walk Committee Meeting
END:VEVENT
END:VCALENDAR
