BEGIN:VCALENDAR
VERSION:2.0
PRODID:-//dsnmc.org//NONSGML kigkonsult.se iCalcreator 2.30.10//
CALSCALE:GREGORIAN
METHOD:PUBLISH
UID:9d4afae4-fc7c-4098-8c3d-4d4dc874d1ba
X-WR-CALDESC:All DSNMC members are invited to participate in the Step UP Wa
 lk Planning Committee. Please email Angela Della to receive the zoom link 
 for this meeting.
X-WR-RELCALID:88b10cb5e17a19e0f203d0d14e2dba57
X-WR-TIMEZONE:America/New_York
BEGIN:VTIMEZONE
TZID:America/New_York
BEGIN:STANDARD
TZNAME:EST
DTSTART:20231105T020000
TZOFFSETFROM:-0400
TZOFFSETTO:-0500
RDATE:20241103T020000
RDATE:20251102T020000
END:STANDARD
BEGIN:DAYLIGHT
TZNAME:EDT
DTSTART:20240310T020000
TZOFFSETFROM:-0500
TZOFFSETTO:-0400
RDATE:20250309T020000
END:DAYLIGHT
END:VTIMEZONE
BEGIN:VEVENT
UID:48032739-0aea-439c-b0cd-f493835e5024
DTSTAMP:20260419T184452Z
DESCRIPTION:All DSNMC members are invited to participate in the Step UP Wal
 k Planning Committee. Please email Angela Della to receive the zoom link f
 or this meeting.
DTSTART;TZID=America/New_York:20240903T190000
DTEND;TZID=America/New_York:20240903T203000
LOCATION:
SUMMARY:Step Up Walk Committee Meeting
END:VEVENT
END:VCALENDAR
