BEGIN:VCALENDAR
VERSION:2.0
PRODID:-//dsnmc.org//NONSGML kigkonsult.se iCalcreator 2.30.10//
CALSCALE:GREGORIAN
METHOD:PUBLISH
UID:0fc5e8a7-de0e-4961-98d7-61834250e2d1
X-WR-CALDESC:Hello New Families!\n\nOur September playgroup will be held at
  We Rock the Spectrum - Gaithersburg.\n\nWe Rock the Spectrum – Gaithersbu
 rg was founded to provide a place for children of all ability levels to pl
 ay and grow together. We have found all children can benefit from our uniq
 uely designed sensory equipment that is specifically designed to aid child
 ren with sensory processing disorders.\n\nJoin DSNMC on Sunday\, September
  8th from 2:00pm - 3:00pm for an afternoon of fun. This event is open to c
 hildren with Down syndrome between the ages of 1 - 8\, and siblings\, 12 a
 nd under. Only 25 children are permitted to register for this event.\n\nAf
 ter registering for the event\, you must also register at We Rock the Spec
 trum and sign their liability waiver - this can be done HERE. These forms 
 must be completed before you arrive on September 8th.\n\nAll adults attend
 ing this event must wear socks in the gym. Children can wear socks\, non-s
 lip socks\, or be barefoot. Children who wear orthotics can wear their sho
 es in the gym.\n\n----\n\n¡Hola nuevas familias!\nNuestro grupo de juego d
 e septiembre se llevará a cabo en We Rock the Spectrum - Gaithersburg.\nWe
  Rock the Spectrum – Gaithersburg se fundó para brindar un lugar para que 
 niños de todos los niveles jueguen y crezcan juntos. Hemos descubierto que
  todos los niños pueden beneficiarse de nuestro equipo sensorial de diseño
  exclusivo que está diseñado específicamente para ayudar a niños con trast
 ornos del procesamiento sensorial.\nÚnase a DSNMC el domingo 8 de septiemb
 re de 2:00 p. m. a 3:00 p. m. para una tarde de diversión. Este evento est
 á abierto a niños con síndrome de Down de entre 1 y 8 años y hermanos de 1
 2 años o menos. Sólo se permite la inscripción de 25 niños para este event
 o.\nDespués de registrarte para el evento\, también debes registrarte en W
 e Rock the Spectrum y firmar su exención de responsabilidad\; esto se pued
 e hacer AQUÍ. Estos formularios deben completarse antes de llegar el 8 de 
 septiembre.\nTodos los adultos que asistan a este evento deberán usar calc
 etines en el gimnasio. Los niños pueden usar calcetines\, calcetines antid
 eslizantes o estar descalzos. Los niños que usan aparatos ortopédicos pued
 en usar sus zapatos en el gimnasio.
X-WR-RELCALID:c18e4c67714b8a455220f59e6d278b4f
X-WR-TIMEZONE:America/New_York
BEGIN:VTIMEZONE
TZID:America/New_York
BEGIN:STANDARD
TZNAME:EST
DTSTART:20231105T020000
TZOFFSETFROM:-0400
TZOFFSETTO:-0500
RDATE:20241103T020000
RDATE:20251102T020000
END:STANDARD
BEGIN:DAYLIGHT
TZNAME:EDT
DTSTART:20240310T020000
TZOFFSETFROM:-0500
TZOFFSETTO:-0400
RDATE:20250309T020000
RDATE:20260308T020000
END:DAYLIGHT
END:VTIMEZONE
BEGIN:VEVENT
UID:5e08a532-9d39-45f9-aef4-29d90ebcaf45
DTSTAMP:20260419T184330Z
DESCRIPTION:Hello New Families!\n\nOur September playgroup will be held at 
 We Rock the Spectrum - Gaithersburg.\n\nWe Rock the Spectrum – Gaithersbur
 g was founded to provide a place for children of all ability levels to pla
 y and grow together. We have found all children can benefit from our uniqu
 ely designed sensory equipment that is specifically designed to aid childr
 en with sensory processing disorders.\n\nJoin DSNMC on Sunday\, September 
 8th from 2:00pm - 3:00pm for an afternoon of fun. This event is open to ch
 ildren with Down syndrome between the ages of 1 - 8\, and siblings\, 12 an
 d under. Only 25 children are permitted to register for this event.\n\nAft
 er registering for the event\, you must also register at We Rock the Spect
 rum and sign their liability waiver - this can be done HERE. These forms m
 ust be completed before you arrive on September 8th.\n\nAll adults attendi
 ng this event must wear socks in the gym. Children can wear socks\, non-sl
 ip socks\, or be barefoot. Children who wear orthotics can wear their shoe
 s in the gym.\n\n----\n\n¡Hola nuevas familias!\nNuestro grupo de juego de
  septiembre se llevará a cabo en We Rock the Spectrum - Gaithersburg.\nWe 
 Rock the Spectrum – Gaithersburg se fundó para brindar un lugar para que n
 iños de todos los niveles jueguen y crezcan juntos. Hemos descubierto que 
 todos los niños pueden beneficiarse de nuestro equipo sensorial de diseño 
 exclusivo que está diseñado específicamente para ayudar a niños con trasto
 rnos del procesamiento sensorial.\nÚnase a DSNMC el domingo 8 de septiembr
 e de 2:00 p. m. a 3:00 p. m. para una tarde de diversión. Este evento está
  abierto a niños con síndrome de Down de entre 1 y 8 años y hermanos de 12
  años o menos. Sólo se permite la inscripción de 25 niños para este evento
 .\nDespués de registrarte para el evento\, también debes registrarte en We
  Rock the Spectrum y firmar su exención de responsabilidad\; esto se puede
  hacer AQUÍ. Estos formularios deben completarse antes de llegar el 8 de s
 eptiembre.\nTodos los adultos que asistan a este evento deberán usar calce
 tines en el gimnasio. Los niños pueden usar calcetines\, calcetines antide
 slizantes o estar descalzos. Los niños que usan aparatos ortopédicos puede
 n usar sus zapatos en el gimnasio.
DTSTART;TZID=America/New_York:20240908T140000
DTEND;TZID=America/New_York:20240908T150000
LOCATION:7601 Airpark Rd\, Gaithersburg \, MD 20879 US
SUMMARY:DSNMC Playgroup We Rock the Spectrum
END:VEVENT
END:VCALENDAR
