BEGIN:VCALENDAR
VERSION:2.0
PRODID:-//dsnmc.org//NONSGML kigkonsult.se iCalcreator 2.30.10//
CALSCALE:GREGORIAN
METHOD:PUBLISH
UID:fbf8dcb3-8ccc-4a2e-b319-187ddcda59b7
X-WR-CALDESC:Join other DSNMC families for a Nationals game on Saturday\, S
 eptember 14th - the game begins at 4:05. We have 85 tickets available for 
 DSNMC families- tickets will be distributed on a first-come basis and will
  be emailed to you prior to the game.\n\nFood will be available for purcha
 se at the game. Visit the National's Webpage to learn about food and trans
 portation options as well as the bag policy.
X-WR-RELCALID:3e36bfde1675ed71240371c8e7e54fb7
X-WR-TIMEZONE:America/New_York
BEGIN:VTIMEZONE
TZID:America/New_York
BEGIN:STANDARD
TZNAME:EST
DTSTART:20231105T020000
TZOFFSETFROM:-0400
TZOFFSETTO:-0500
RDATE:20241103T020000
RDATE:20251102T020000
END:STANDARD
BEGIN:DAYLIGHT
TZNAME:EDT
DTSTART:20240310T020000
TZOFFSETFROM:-0500
TZOFFSETTO:-0400
RDATE:20250309T020000
RDATE:20260308T020000
END:DAYLIGHT
END:VTIMEZONE
BEGIN:VEVENT
UID:4d81772a-7896-4cf4-8d68-f20d23913181
DTSTAMP:20260419T183730Z
DESCRIPTION:Join other DSNMC families for a Nationals game on Saturday\, Se
 ptember 14th - the game begins at 4:05. We have 85 tickets available for D
 SNMC families- tickets will be distributed on a first-come basis and will 
 be emailed to you prior to the game.\n\nFood will be available for purchas
 e at the game. Visit the National's Webpage to learn about food and transp
 ortation options as well as the bag policy.
DTSTART;TZID=America/New_York:20240914T160500
DTEND;TZID=America/New_York:20240914T193000
LOCATION:Nationals Park\, 1500 South Capital Street\, SE\, Washington\, DC 
 20003 US
SUMMARY:Washington Nationals vs Florida Marlins
END:VEVENT
END:VCALENDAR
