BEGIN:VCALENDAR
VERSION:2.0
PRODID:-//dsnmc.org//NONSGML kigkonsult.se iCalcreator 2.30.10//
CALSCALE:GREGORIAN
METHOD:PUBLISH
UID:d1f855f1-fa1b-483a-bb9b-8e89483c0d4f
X-WR-CALDESC:All DSNMC members are invited to participate in the Step UP Wa
 lk Planning Committee. Please email Angela Della to receive the zoom link 
 for this meeting.
X-WR-RELCALID:93dfb8ba66c7ea242dcd394103bf46d7
X-WR-TIMEZONE:America/New_York
BEGIN:VTIMEZONE
TZID:America/New_York
BEGIN:STANDARD
TZNAME:EST
DTSTART:20231105T020000
TZOFFSETFROM:-0400
TZOFFSETTO:-0500
RDATE:20241103T020000
RDATE:20251102T020000
END:STANDARD
BEGIN:DAYLIGHT
TZNAME:EDT
DTSTART:20240310T020000
TZOFFSETFROM:-0500
TZOFFSETTO:-0400
RDATE:20250309T020000
RDATE:20260308T020000
END:DAYLIGHT
END:VTIMEZONE
BEGIN:VEVENT
UID:d5985b99-bff7-451c-ae7e-96c598403e1a
DTSTAMP:20260419T183952Z
DESCRIPTION:All DSNMC members are invited to participate in the Step UP Wal
 k Planning Committee. Please email Angela Della to receive the zoom link f
 or this meeting.
DTSTART;TZID=America/New_York:20240917T190000
DTEND;TZID=America/New_York:20240917T203000
LOCATION:
SUMMARY:Step Up Walk Committee Meeting
END:VEVENT
END:VCALENDAR
