BEGIN:VCALENDAR
VERSION:2.0
PRODID:-//dsnmc.org//NONSGML kigkonsult.se iCalcreator 2.30.10//
CALSCALE:GREGORIAN
METHOD:PUBLISH
UID:00b36c10-3c3f-403b-a261-07e0b6645701
X-WR-CALDESC:Join the Self-Advocate Community Network to spread awareness a
 bout DSNMC. We will be writing Congratulations cards to parents who are ex
 pecting babies with Down syndrome and help with a promotional video for th
 e Step UP Walk.\n\nThis event will take place in the Poppy Boy’s Kitchen.
X-WR-RELCALID:bef05ec46877904ca23d5beaed4ab00a
X-WR-TIMEZONE:America/New_York
BEGIN:VTIMEZONE
TZID:America/New_York
BEGIN:STANDARD
TZNAME:EST
DTSTART:20231105T020000
TZOFFSETFROM:-0400
TZOFFSETTO:-0500
RDATE:20241103T020000
RDATE:20251102T020000
END:STANDARD
BEGIN:DAYLIGHT
TZNAME:EDT
DTSTART:20240310T020000
TZOFFSETFROM:-0500
TZOFFSETTO:-0400
RDATE:20250309T020000
RDATE:20260308T020000
END:DAYLIGHT
END:VTIMEZONE
BEGIN:VEVENT
UID:18a944b9-4e13-436e-8283-a5a4fd1c2ed0
DTSTAMP:20260419T183730Z
DESCRIPTION:Join the Self-Advocate Community Network to spread awareness ab
 out DSNMC. We will be writing Congratulations cards to parents who are exp
 ecting babies with Down syndrome and help with a promotional video for the
  Step UP Walk.\n\nThis event will take place in the Poppy Boy’s Kitchen.
DTSTART;TZID=America/New_York:20240921T150000
DTEND;TZID=America/New_York:20240921T170000
LOCATION:50 Monroe\, Rockville\, MD 20850 US
SUMMARY:CANCELED - Congratulations Card and Step Up Video Service Project
END:VEVENT
END:VCALENDAR
