BEGIN:VCALENDAR
VERSION:2.0
PRODID:-//dsnmc.org//NONSGML kigkonsult.se iCalcreator 2.30.10//
CALSCALE:GREGORIAN
METHOD:PUBLISH
UID:94dac155-9ce5-45f8-a36f-3584b7fd3807
X-WR-CALDESC:All DSNMC members are invited to participate in the Step UP Wa
 lk Planning Committee. Please email Angela Della to receive the zoom link 
 for this meeting.
X-WR-RELCALID:9d65c554d14a818f3ec7415bf73d9aba
X-WR-TIMEZONE:America/New_York
BEGIN:VTIMEZONE
TZID:America/New_York
BEGIN:STANDARD
TZNAME:EST
DTSTART:20231105T020000
TZOFFSETFROM:-0400
TZOFFSETTO:-0500
RDATE:20241103T020000
RDATE:20251102T020000
END:STANDARD
BEGIN:DAYLIGHT
TZNAME:EDT
DTSTART:20240310T020000
TZOFFSETFROM:-0500
TZOFFSETTO:-0400
RDATE:20250309T020000
RDATE:20260308T020000
END:DAYLIGHT
END:VTIMEZONE
BEGIN:VEVENT
UID:df820d3f-80c2-4432-b333-c4526241692f
DTSTAMP:20260419T172858Z
DESCRIPTION:All DSNMC members are invited to participate in the Step UP Wal
 k Planning Committee. Please email Angela Della to receive the zoom link f
 or this meeting.
DTSTART;TZID=America/New_York:20241001T190000
DTEND;TZID=America/New_York:20241001T203000
LOCATION:
SUMMARY:Step Up Walk Committee Meeting
END:VEVENT
END:VCALENDAR
