BEGIN:VCALENDAR
VERSION:2.0
PRODID:-//dsnmc.org//NONSGML kigkonsult.se iCalcreator 2.30.10//
CALSCALE:GREGORIAN
METHOD:PUBLISH
UID:8f93be0f-3071-4f3a-bf76-6a81e54c2c89
X-WR-CALDESC:Join our Teen Hangout program every Thursday at 6:30 via Zoom!
  For Ages 13 - 19. Families are welcome to join.
X-WR-RELCALID:7faf68da6b5e7cad9f1679e2c512dffc
X-WR-TIMEZONE:America/New_York
BEGIN:VTIMEZONE
TZID:America/New_York
BEGIN:STANDARD
TZNAME:EST
DTSTART:20231105T020000
TZOFFSETFROM:-0400
TZOFFSETTO:-0500
RDATE:20241103T020000
RDATE:20251102T020000
END:STANDARD
BEGIN:DAYLIGHT
TZNAME:EDT
DTSTART:20240310T020000
TZOFFSETFROM:-0500
TZOFFSETTO:-0400
RDATE:20250309T020000
RDATE:20260308T020000
END:DAYLIGHT
END:VTIMEZONE
BEGIN:VEVENT
UID:27b89121-ebce-4837-823c-cb11f00cfa99
DTSTAMP:20260419T172955Z
DESCRIPTION:Join our Teen Hangout program every Thursday at 6:30 via Zoom! 
 For Ages 13 - 19. Families are welcome to join.
DTSTART;TZID=America/New_York:20241003T183000
DTEND;TZID=America/New_York:20241003T190000
LOCATION:https://us02web.zoom.us/j/83919769645
SUMMARY:Teen Hangout Social Meetings
END:VEVENT
END:VCALENDAR
