BEGIN:VCALENDAR
VERSION:2.0
PRODID:-//dsnmc.org//NONSGML kigkonsult.se iCalcreator 2.30.10//
CALSCALE:GREGORIAN
METHOD:PUBLISH
UID:ef63748e-5430-4f60-b373-430dd3df0936
X-WR-CALDESC:If you have a little one\, please attend our October 'home-sty
 le' playdate! This event is designed for families who have a child with Do
 wn syndrome aged 3 or younger.\n\nWhen: Sunday\, October 6th\nTime: 10 am 
 - 12 noon (feel free to arrive late and/or leave early)\nWhere: North Beth
 esda (Address will be provided to registrants)\n\nDSNMC will be offering p
 laygroups regularly\, so if you are unable to attend this playgroup\, ther
 e will be others scheduled. This is a great opportunity to meet other fami
 lies who have a young child with Ds in a relaxed setting.  We hope to see 
 you there!
X-WR-RELCALID:33a5b26889e88db0d4c60bac5b3e9970
X-WR-TIMEZONE:America/New_York
BEGIN:VTIMEZONE
TZID:America/New_York
BEGIN:STANDARD
TZNAME:EST
DTSTART:20231105T020000
TZOFFSETFROM:-0400
TZOFFSETTO:-0500
RDATE:20241103T020000
RDATE:20251102T020000
END:STANDARD
BEGIN:DAYLIGHT
TZNAME:EDT
DTSTART:20240310T020000
TZOFFSETFROM:-0500
TZOFFSETTO:-0400
RDATE:20250309T020000
RDATE:20260308T020000
END:DAYLIGHT
END:VTIMEZONE
BEGIN:VEVENT
UID:cb086d81-b265-47b7-af5a-4c4cd9d45e1b
DTSTAMP:20260419T172608Z
DESCRIPTION:If you have a little one\, please attend our October 'home-styl
 e' playdate! This event is designed for families who have a child with Dow
 n syndrome aged 3 or younger.\n\nWhen: Sunday\, October 6th\nTime: 10 am -
  12 noon (feel free to arrive late and/or leave early)\nWhere: North Bethe
 sda (Address will be provided to registrants)\n\nDSNMC will be offering pl
 aygroups regularly\, so if you are unable to attend this playgroup\, there
  will be others scheduled. This is a great opportunity to meet other famil
 ies who have a young child with Ds in a relaxed setting.  We hope to see y
 ou there!
DTSTART;TZID=America/New_York:20241006T100000
DTEND;TZID=America/New_York:20241006T120000
LOCATION:
SUMMARY:DSNMC Playgroup for 0-3
END:VEVENT
END:VCALENDAR
