BEGIN:VCALENDAR
VERSION:2.0
PRODID:-//dsnmc.org//NONSGML kigkonsult.se iCalcreator 2.30.10//
CALSCALE:GREGORIAN
METHOD:PUBLISH
UID:f52ee92f-5dc4-488b-b28b-a85f382f6ead
X-WR-CALDESC:Join DSNMC and ArtStream for part one of a two-part public spe
 aking workshop series. Attendees will learn communication and public speak
 ing skills while also gaining confidence. This two-part series will take p
 lace on Sunday\, October 6th and Sunday\, October 13th from 3:00PM to 5:00
 pm at the North Chevy Chase Christian Church.\n\nSelf-Advocates planning t
 o speak at the 2024 Step Up Walk MUST attend both workshops! This event is
  for participants 21 years old and up.
X-WR-RELCALID:ea079fadb99ee3684b77912b49b88bbf
X-WR-TIMEZONE:America/New_York
BEGIN:VTIMEZONE
TZID:America/New_York
BEGIN:STANDARD
TZNAME:EST
DTSTART:20231105T020000
TZOFFSETFROM:-0400
TZOFFSETTO:-0500
RDATE:20241103T020000
RDATE:20251102T020000
END:STANDARD
BEGIN:DAYLIGHT
TZNAME:EDT
DTSTART:20240310T020000
TZOFFSETFROM:-0500
TZOFFSETTO:-0400
RDATE:20250309T020000
RDATE:20260308T020000
END:DAYLIGHT
END:VTIMEZONE
BEGIN:VEVENT
UID:5f960384-80f6-4ec3-9a58-fa7d4c4be5ea
DTSTAMP:20260419T172710Z
DESCRIPTION:Join DSNMC and ArtStream for part one of a two-part public spea
 king workshop series. Attendees will learn communication and public speaki
 ng skills while also gaining confidence. This two-part series will take pl
 ace on Sunday\, October 6th and Sunday\, October 13th from 3:00PM to 5:00p
 m at the North Chevy Chase Christian Church.\n\nSelf-Advocates planning to
  speak at the 2024 Step Up Walk MUST attend both workshops! This event is 
 for participants 21 years old and up.
DTSTART;TZID=America/New_York:20241006T150000
DTEND;TZID=America/New_York:20241006T170000
LOCATION:North Chevy Chase Christian Church\, 8814 Kensington Pkwy \, MD\, 
 Chevy Chase\, MD 20815 US
SUMMARY:Positively Speaking by ArtStream
END:VEVENT
END:VCALENDAR
