BEGIN:VCALENDAR
VERSION:2.0
PRODID:-//dsnmc.org//NONSGML kigkonsult.se iCalcreator 2.30.10//
CALSCALE:GREGORIAN
METHOD:PUBLISH
UID:372ffced-b275-4e2d-adee-5b846b7c16a0
X-WR-CALDESC:Join DSNMC staff members Brooke Levey\, Kristi Maeng and Angel
 a Della on October 7 from 5:30pm-7:30pm at Uncle Julio's in the Rio for an
  evening of connection\, conversation and friendship. DSNMC will provide a
 ppetizers and non alcoholic beverages. All moms and mother figures welcome
 .
X-WR-RELCALID:0e8ffa925e9a70406f9df4c0c8136d41
X-WR-TIMEZONE:America/New_York
BEGIN:VTIMEZONE
TZID:America/New_York
BEGIN:STANDARD
TZNAME:EST
DTSTART:20231105T020000
TZOFFSETFROM:-0400
TZOFFSETTO:-0500
RDATE:20241103T020000
RDATE:20251102T020000
END:STANDARD
BEGIN:DAYLIGHT
TZNAME:EDT
DTSTART:20240310T020000
TZOFFSETFROM:-0500
TZOFFSETTO:-0400
RDATE:20250309T020000
RDATE:20260308T020000
END:DAYLIGHT
END:VTIMEZONE
BEGIN:VEVENT
UID:ec522e9e-51cc-48d3-a573-f3083393091e
DTSTAMP:20260419T172734Z
DESCRIPTION:Join DSNMC staff members Brooke Levey\, Kristi Maeng and Angela
  Della on October 7 from 5:30pm-7:30pm at Uncle Julio's in the Rio for an 
 evening of connection\, conversation and friendship. DSNMC will provide ap
 petizers and non alcoholic beverages. All moms and mother figures welcome.
DTSTART;TZID=America/New_York:20241007T173000
DTEND;TZID=America/New_York:20241007T193000
LOCATION:231 Rio Blvd\, Gaithersburg\, MD 20878 US
SUMMARY:Mom's Night Out
END:VEVENT
END:VCALENDAR
