BEGIN:VCALENDAR
VERSION:2.0
PRODID:-//dsnmc.org//NONSGML kigkonsult.se iCalcreator 2.30.10//
CALSCALE:GREGORIAN
METHOD:PUBLISH
UID:9745932f-d98e-476f-ae40-855016143b91
X-WR-CALDESC:Step Up for Down Syndrome Celebration & Walk\n\nJoin the Down 
 Syndrome Network of Montgomery County as we unite for a common cause and r
 aise funds at the 2024 Step Up for Down Syndrome Celebration & Walk. Wheth
 er you have Down syndrome\, know someone who does\, or just want to show y
 our support\, take the first step and donate or register today! Help us sp
 read the word\; all are welcome for our day of celebration!
X-WR-RELCALID:31347a80262952c5805a4a00ddc87ebd
X-WR-TIMEZONE:America/New_York
BEGIN:VTIMEZONE
TZID:America/New_York
BEGIN:STANDARD
TZNAME:EST
DTSTART:20231105T020000
TZOFFSETFROM:-0400
TZOFFSETTO:-0500
RDATE:20241103T020000
RDATE:20251102T020000
END:STANDARD
BEGIN:DAYLIGHT
TZNAME:EDT
DTSTART:20240310T020000
TZOFFSETFROM:-0500
TZOFFSETTO:-0400
RDATE:20250309T020000
RDATE:20260308T020000
END:DAYLIGHT
END:VTIMEZONE
BEGIN:VEVENT
UID:0fb0de5d-d392-473a-a5e2-4db4a1dbc182
DTSTAMP:20260419T172538Z
DESCRIPTION:Step Up for Down Syndrome Celebration & Walk\n\nJoin the Down S
 yndrome Network of Montgomery County as we unite for a common cause and ra
 ise funds at the 2024 Step Up for Down Syndrome Celebration & Walk. Whethe
 r you have Down syndrome\, know someone who does\, or just want to show yo
 ur support\, take the first step and donate or register today! Help us spr
 ead the word\; all are welcome for our day of celebration!
DTSTART;TZID=America/New_York:20241019T103000
DTEND;TZID=America/New_York:20241019T140000
LOCATION:12600 Falls Road\, Potomac\, MD 20854 US
SUMMARY:Step Up Walk
END:VEVENT
END:VCALENDAR
