BEGIN:VCALENDAR
VERSION:2.0
PRODID:-//dsnmc.org//NONSGML kigkonsult.se iCalcreator 2.30.10//
CALSCALE:GREGORIAN
METHOD:PUBLISH
UID:409f3c43-ca64-4718-9c92-545704bb42d8
X-WR-CALDESC:Join us and be ready for the 2024 election!\nGet ready for Ele
 ction Day with a large group discussion featuring Ande Kolp from The Arc M
 aryland! This engaging session will cover essential voting resources and w
 hat to expect on the big day.\n\nDate: October 26\, 2024\nTime: 3-5 PM\nLo
 cation: Main Street\n\n50 Monroe Place\nRockville\, MD 20850\n\nEnjoy deli
 cious snacks and drinks while you learn and ask questions! Don’t miss this
  opportunity to be informed and prepared for a successful voting experienc
 e.
X-WR-RELCALID:318048434c5b8988bfb6757303eac6a5
X-WR-TIMEZONE:America/New_York
BEGIN:VTIMEZONE
TZID:America/New_York
BEGIN:STANDARD
TZNAME:EST
DTSTART:20231105T020000
TZOFFSETFROM:-0400
TZOFFSETTO:-0500
RDATE:20241103T020000
RDATE:20251102T020000
END:STANDARD
BEGIN:DAYLIGHT
TZNAME:EDT
DTSTART:20240310T020000
TZOFFSETFROM:-0500
TZOFFSETTO:-0400
RDATE:20250309T020000
RDATE:20260308T020000
END:DAYLIGHT
END:VTIMEZONE
BEGIN:VEVENT
UID:894b3b1b-158c-4ae7-9ec6-6b48a04c02aa
DTSTAMP:20260419T172608Z
DESCRIPTION:Join us and be ready for the 2024 election!\nGet ready for Elec
 tion Day with a large group discussion featuring Ande Kolp from The Arc Ma
 ryland! This engaging session will cover essential voting resources and wh
 at to expect on the big day.\n\nDate: October 26\, 2024\nTime: 3-5 PM\nLoc
 ation: Main Street\n\n50 Monroe Place\nRockville\, MD 20850\n\nEnjoy delic
 ious snacks and drinks while you learn and ask questions! Don’t miss this 
 opportunity to be informed and prepared for a successful voting experience
 .
DTSTART;TZID=America/New_York:20241026T150000
DTEND;TZID=America/New_York:20241026T170000
LOCATION:50 Monroe Pl Rockville\, Rockville\, MD 20850 US
SUMMARY:SACN 2024 Election Workshop
END:VEVENT
END:VCALENDAR
