BEGIN:VCALENDAR
VERSION:2.0
PRODID:-//dsnmc.org//NONSGML kigkonsult.se iCalcreator 2.30.10//
CALSCALE:GREGORIAN
METHOD:PUBLISH
UID:ee2db244-3bb1-48f0-a32f-25d45672208d
X-WR-CALDESC:Location: Gaithersburg Library/Biblioteca de Gaithersburg: 183
 30 Montgomery Village Ave 2nd Floor - Elevators directly across from main 
 entrance/2do Piso - Elevadores directamente frente a la entrada principal 
 Gaithersburg\, MD 20886 \n\nOur New Family Breakfast is geared towards fam
 ilies with a child with Ds younger than 5\, families who have moved to Mon
 tgomery County\, and expectant families. The New Family Committee members 
 will be in attendance to welcome you. \n\nWelcome New Families to our bi-a
 nnual breakfast. Whether you have given birth in the last few years\, rece
 ntly moved to the area with a little one (<5)\, or you are an expectant fa
 mily\, you are welcome to our breakfast.\n\nDSNMC will donate the coffee\,
  tea\, bagels and treats while you enjoy time mingling with other families
  and our First Call committee members.\n\nOur upcoming breakfast will take
  place on Sunday\, November 3\, from 11:00am to 1:00pm at the Gaithersburg
  Library. We will meet on the second floor of the library\, which is acces
 sed by taking the elevator or stairs directly in front of you when enterin
 g the library’s main entrance. There is plenty of parking in the library l
 ot.\n\nPlease note that while we hope you can all join\, we also want to r
 espect all participating families. If you or anyone in your family is expe
 riencing cold/flu/cough-like symptoms\, please remain home and we will see
  you at the next event.\n\nGaithersburg Library\n18330 Montgomery Village 
 Ave\nGaithersburg\, MD 20879\n\nPlease indicate how many adults and childr
 en will be attending when registering for the event. Advanced registration
  is required and registration closes on October 31.\n\n__________\n\nNuest
 ro Nuevo Desayuno Familiar está dirigido a familias con un hijo con Síndro
 me de Down menor de 5 años\, familias que se han mudado al Condado de Mont
 gomery\, y familias que están esperando un bebé. Los miembros del Comité d
 e Nuevas Familias estarán presentes para darles la bienvenida.\n\nBienveni
 das Nuevas Familias a nuestro desayuno bianual. Ya sea que hayas dado a lu
 z en los últimos años\, te hayas mudado recientemente al área con un peque
 ñito (<5)\, o seas una familia en espera\, eres bienvenido(a) a nuestro de
 sayuno.\n\nDSNMC donará el café\, té\, bagels y bocadillos mientras disfru
 tas de tiempo para relacionarte con otras familias y con los miembros de n
 uestro comité de First Call.\n\nNuestro próximo desayuno se llevará a cabo
  el domingo\, 3 de noviembre\, de 11:00 am a 1:00 pm en la Biblioteca de G
 aithersburg. Nos reuniremos en el segundo piso de la biblioteca\, al cual 
 se puede acceder tomando el elevador o las escaleras directamente frente a
  la entrada principal de la biblioteca. Hay mucho estacionamiento disponib
 le en el lote de la biblioteca.\n\nPor favor\, ten en cuenta que\, aunque 
 esperamos que todos puedan unirse\, también queremos respetar a todas las 
 familias participantes. Si tú o alguien en tu familia está experimentando 
 síntomas de resfriado/gripe/tos\, por favor\, quédate en casa y nos veremo
 s en el próximo evento.\n\nBiblioteca de Gaithersburg\n18330 Montgomery Vi
 llage Ave\nGaithersburg\, MD 20879\n\nIndica cuántos adultos y niños asist
 irán al registrarte para el evento. Es necesario registrarse con anticipac
 ión\, y la inscripción cierra el 31 de octubre.
X-WR-RELCALID:b06e0ab91348daf764f866f8f4840974
X-WR-TIMEZONE:America/New_York
BEGIN:VTIMEZONE
TZID:America/New_York
BEGIN:STANDARD
TZNAME:EST
DTSTART:20231105T020000
TZOFFSETFROM:-0400
TZOFFSETTO:-0500
RDATE:20241103T020000
RDATE:20251102T020000
END:STANDARD
BEGIN:DAYLIGHT
TZNAME:EDT
DTSTART:20240310T020000
TZOFFSETFROM:-0500
TZOFFSETTO:-0400
RDATE:20250309T020000
RDATE:20260308T020000
END:DAYLIGHT
END:VTIMEZONE
BEGIN:VEVENT
UID:3fdcc292-2519-437a-ba4a-c6db36c93937
DTSTAMP:20260419T160428Z
DESCRIPTION:Location: Gaithersburg Library/Biblioteca de Gaithersburg: 1833
 0 Montgomery Village Ave 2nd Floor - Elevators directly across from main e
 ntrance/2do Piso - Elevadores directamente frente a la entrada principal G
 aithersburg\, MD 20886 \n\nOur New Family Breakfast is geared towards fami
 lies with a child with Ds younger than 5\, families who have moved to Mont
 gomery County\, and expectant families. The New Family Committee members w
 ill be in attendance to welcome you. \n\nWelcome New Families to our bi-an
 nual breakfast. Whether you have given birth in the last few years\, recen
 tly moved to the area with a little one (<5)\, or you are an expectant fam
 ily\, you are welcome to our breakfast.\n\nDSNMC will donate the coffee\, 
 tea\, bagels and treats while you enjoy time mingling with other families 
 and our First Call committee members.\n\nOur upcoming breakfast will take 
 place on Sunday\, November 3\, from 11:00am to 1:00pm at the Gaithersburg 
 Library. We will meet on the second floor of the library\, which is access
 ed by taking the elevator or stairs directly in front of you when entering
  the library’s main entrance. There is plenty of parking in the library lo
 t.\n\nPlease note that while we hope you can all join\, we also want to re
 spect all participating families. If you or anyone in your family is exper
 iencing cold/flu/cough-like symptoms\, please remain home and we will see 
 you at the next event.\n\nGaithersburg Library\n18330 Montgomery Village A
 ve\nGaithersburg\, MD 20879\n\nPlease indicate how many adults and childre
 n will be attending when registering for the event. Advanced registration 
 is required and registration closes on October 31.\n\n__________\n\nNuestr
 o Nuevo Desayuno Familiar está dirigido a familias con un hijo con Síndrom
 e de Down menor de 5 años\, familias que se han mudado al Condado de Montg
 omery\, y familias que están esperando un bebé. Los miembros del Comité de
  Nuevas Familias estarán presentes para darles la bienvenida.\n\nBienvenid
 as Nuevas Familias a nuestro desayuno bianual. Ya sea que hayas dado a luz
  en los últimos años\, te hayas mudado recientemente al área con un pequeñ
 ito (<5)\, o seas una familia en espera\, eres bienvenido(a) a nuestro des
 ayuno.\n\nDSNMC donará el café\, té\, bagels y bocadillos mientras disfrut
 as de tiempo para relacionarte con otras familias y con los miembros de nu
 estro comité de First Call.\n\nNuestro próximo desayuno se llevará a cabo 
 el domingo\, 3 de noviembre\, de 11:00 am a 1:00 pm en la Biblioteca de Ga
 ithersburg. Nos reuniremos en el segundo piso de la biblioteca\, al cual s
 e puede acceder tomando el elevador o las escaleras directamente frente a 
 la entrada principal de la biblioteca. Hay mucho estacionamiento disponibl
 e en el lote de la biblioteca.\n\nPor favor\, ten en cuenta que\, aunque e
 speramos que todos puedan unirse\, también queremos respetar a todas las f
 amilias participantes. Si tú o alguien en tu familia está experimentando s
 íntomas de resfriado/gripe/tos\, por favor\, quédate en casa y nos veremos
  en el próximo evento.\n\nBiblioteca de Gaithersburg\n18330 Montgomery Vil
 lage Ave\nGaithersburg\, MD 20879\n\nIndica cuántos adultos y niños asisti
 rán al registrarte para el evento. Es necesario registrarse con anticipaci
 ón\, y la inscripción cierra el 31 de octubre.
DTSTART;TZID=America/New_York:20241103T110000
DTEND;TZID=America/New_York:20241103T130000
LOCATION:18330 Montgomery Village\, Gaithersburg\, MD 20879 US
SUMMARY:DSNMC New Family Breakfast
END:VEVENT
END:VCALENDAR
