BEGIN:VCALENDAR
VERSION:2.0
PRODID:-//dsnmc.org//NONSGML kigkonsult.se iCalcreator 2.30.10//
CALSCALE:GREGORIAN
METHOD:PUBLISH
UID:eb7d390b-7170-498d-907b-91e40ac47932
X-WR-CALDESC:This committee will discuss goals\, objectives and strategies 
 to support the needs of our transitioning youth families.\n\n
X-WR-RELCALID:69eece364b72317144be7b3148f46f5d
X-WR-TIMEZONE:America/New_York
BEGIN:VTIMEZONE
TZID:America/New_York
BEGIN:STANDARD
TZNAME:EST
DTSTART:20241103T020000
TZOFFSETFROM:-0400
TZOFFSETTO:-0500
RDATE:20251102T020000
END:STANDARD
BEGIN:DAYLIGHT
TZNAME:EDT
DTSTART:20240310T020000
TZOFFSETFROM:-0500
TZOFFSETTO:-0400
RDATE:20250309T020000
RDATE:20260308T020000
END:DAYLIGHT
END:VTIMEZONE
BEGIN:VEVENT
UID:280c061f-53cf-4484-a78b-de346e25aeb1
DTSTAMP:20260419T160524Z
DESCRIPTION:This committee will discuss goals\, objectives and strategies t
 o support the needs of our transitioning youth families.\n\n
DTSTART;TZID=America/New_York:20241112T193000
DTEND;TZID=America/New_York:20241112T203000
LOCATION:
SUMMARY:Transitioning Youth and Adult Committee
END:VEVENT
END:VCALENDAR
