BEGIN:VCALENDAR
VERSION:2.0
PRODID:-//dsnmc.org//NONSGML kigkonsult.se iCalcreator 2.30.10//
CALSCALE:GREGORIAN
METHOD:PUBLISH
UID:cb2c1a71-92d2-4ec8-ac88-cbfdcca9899c
X-WR-CALDESC:Techniques for Success (TFS) is Maryland’s leading education c
 onference focused on supporting the inclusion\, equity\, and success of st
 udents with Down syndrome and Intellectual & Developmental Disabilities (I
 DD). TFS typically brings together up to 400 participants including educat
 ors\, para-educators\, administrators\, therapists\, advocates\, and other
  educational leaders that serve students with IDD. The TFS Conference prov
 ides these professionals with practical and innovative strategies along wi
 th new technologies and advances for meeting the needs of their diverse le
 arners through presentations from well-known experts in the field. \n\nTFS
 ’s planning committee is comprised of prominent local Down syndrome associ
 ations: the Down Syndrome Network of Montgomery County\, the Down Syndrome
  Association of Maryland\, and F.R.I.E.N.D.S. of Fredrick County.\n\nThe 2
 024 conference will be held at Loyola University in Baltimore on Saturday\
 , November 16. For more details and to register\, visit the Techniques for
  Success website: https://www.techniquesforsuccess.org/.
X-WR-RELCALID:710275f8707d257c2235e66db5ad1c48
X-WR-TIMEZONE:America/New_York
BEGIN:VTIMEZONE
TZID:America/New_York
BEGIN:STANDARD
TZNAME:EST
DTSTART:20241103T020000
TZOFFSETFROM:-0400
TZOFFSETTO:-0500
RDATE:20251102T020000
END:STANDARD
BEGIN:DAYLIGHT
TZNAME:EDT
DTSTART:20240310T020000
TZOFFSETFROM:-0500
TZOFFSETTO:-0400
RDATE:20250309T020000
RDATE:20260308T020000
END:DAYLIGHT
END:VTIMEZONE
BEGIN:VEVENT
UID:fc44a63f-74b0-4f2d-a5db-49382234c3a0
DTSTAMP:20260419T160218Z
DESCRIPTION:Techniques for Success (TFS) is Maryland’s leading education co
 nference focused on supporting the inclusion\, equity\, and success of stu
 dents with Down syndrome and Intellectual & Developmental Disabilities (ID
 D). TFS typically brings together up to 400 participants including educato
 rs\, para-educators\, administrators\, therapists\, advocates\, and other 
 educational leaders that serve students with IDD. The TFS Conference provi
 des these professionals with practical and innovative strategies along wit
 h new technologies and advances for meeting the needs of their diverse lea
 rners through presentations from well-known experts in the field. \n\nTFS’
 s planning committee is comprised of prominent local Down syndrome associa
 tions: the Down Syndrome Network of Montgomery County\, the Down Syndrome 
 Association of Maryland\, and F.R.I.E.N.D.S. of Fredrick County.\n\nThe 20
 24 conference will be held at Loyola University in Baltimore on Saturday\,
  November 16. For more details and to register\, visit the Techniques for 
 Success website: https://www.techniquesforsuccess.org/.
DTSTART;TZID=America/New_York:20241116T080000
DTEND;TZID=America/New_York:20241116T150000
LOCATION:4501 N Charles St\, Baltimore\, MD 21210 US
SUMMARY:Techniques for Success (TFS)
END:VEVENT
END:VCALENDAR
