BEGIN:VCALENDAR
VERSION:2.0
PRODID:-//dsnmc.org//NONSGML kigkonsult.se iCalcreator 2.30.10//
CALSCALE:GREGORIAN
METHOD:PUBLISH
UID:12ecae06-71a0-424f-8eb3-d672a04a76da
X-WR-CALDESC:Join DSNMC on Monday\, December 2nd from 5:30pm-7:30pm at Pins
 tripes North Bethesda at Pike & Rose for an evening of connection\, conver
 sation and friendship. DSNMC will provide appetizers and non-alcoholic bev
 erages. All moms and mother figures welcome.\n\n______\n\nÚnete a DSNMC el
  lunes 2 de diciembre de 5:30 p.m. a 7:30 p.m. en Pinstripes North Bethesd
 a en Pike & Rose para una tarde de conexión\, conversación y amistad. DSNM
 C proporcionará aperitivos y bebidas no alcohólicas. Todas las madres y fi
 guras maternas son bienvenidas.
X-WR-RELCALID:91aad89c9c59b791178c3ed2185c5330
X-WR-TIMEZONE:America/New_York
BEGIN:VTIMEZONE
TZID:America/New_York
BEGIN:STANDARD
TZNAME:EST
DTSTART:20241103T020000
TZOFFSETFROM:-0400
TZOFFSETTO:-0500
RDATE:20251102T020000
END:STANDARD
BEGIN:DAYLIGHT
TZNAME:EDT
DTSTART:20240310T020000
TZOFFSETFROM:-0500
TZOFFSETTO:-0400
RDATE:20250309T020000
RDATE:20260308T020000
END:DAYLIGHT
END:VTIMEZONE
BEGIN:VEVENT
UID:a8ef4e0c-15a4-42d3-9a17-ebe9be21229b
DTSTAMP:20260419T144626Z
DESCRIPTION:Join DSNMC on Monday\, December 2nd from 5:30pm-7:30pm at Pinst
 ripes North Bethesda at Pike & Rose for an evening of connection\, convers
 ation and friendship. DSNMC will provide appetizers and non-alcoholic beve
 rages. All moms and mother figures welcome.\n\n______\n\nÚnete a DSNMC el 
 lunes 2 de diciembre de 5:30 p.m. a 7:30 p.m. en Pinstripes North Bethesda
  en Pike & Rose para una tarde de conexión\, conversación y amistad. DSNMC
  proporcionará aperitivos y bebidas no alcohólicas. Todas las madres y fig
 uras maternas son bienvenidas.
DTSTART;TZID=America/New_York:20241202T173000
DTEND;TZID=America/New_York:20241202T193000
LOCATION:1192 Grand Park Avenue\, North Bethesda\, MD 20852 US
SUMMARY:DSNMC Mom's Night Out/Noche de Mamás DSNMC
END:VEVENT
END:VCALENDAR
