BEGIN:VCALENDAR
VERSION:2.0
PRODID:-//dsnmc.org//NONSGML kigkonsult.se iCalcreator 2.30.10//
CALSCALE:GREGORIAN
METHOD:PUBLISH
UID:6f22fa2d-ab54-43b2-9d8f-e2491ea7efe1
X-WR-CALDESC:¡Únase al Grupo Latino de DSNMC para celebrar las fiestas! Nos
  reuniremos este sábado\, 7 de diciembre\, de 1:00 pm a 4:00 pm. Este even
 to será una comida compartida\; por favor regístrese aquí para traer un pl
 atillo y compartir. Si desea participar en un intercambio de regalos\, tra
 iga un regalo envuelto de $10 o menos. Asegúrese de que el regalo esté eti
 quetado para indicar a qué grupo de edad está destinado.\n\nTodos son bien
 venidos a este evento festivo\, pero se requiere inscripción previa.\nSe s
 ugiere traer alimentos no perecederos (enlatados o en caja) para donar a l
 a despensa de alimentos de la Iglesia St. Martin.\nBethesda Regional Servi
 ces Center\nWisconsin Conference Room - 2nd Floor\n4805 Edgemoor Lane\nBet
 hesda\, MD 20814\n\nEl Centro de Servicios Regionales de Bethesda\, ubicad
 o en el centro de Bethesda\, está convenientemente conectado con la estaci
 ón de metro de Bethesda a través de un SkyWalk ubicado cerca del Kid Museu
 m y también se encuentra sobre un garaje de estacionamiento público. La en
 trada más cercana tanto a la estación de metro como al garaje de estaciona
 miento se encuentra en el nivel de la plaza\, pasando el área de juegos y 
 a la derecha después de la guardería.\n\n__________\n\nJoin the DSNMC Grup
 o Latino to celebrate the holidays! We will gather this Saturday\, Decembe
 r 7\, from 1:00pm to 4:00pm. This event will be a potluck\; please sign-up
  here to bring a dish to share. If you would like to participate in a gift
  exchange\, please bring a wrapped gift of $10 or less. Make sure the gift
  is labeled to indicate what age group it is for. All are welcome to atten
 d this festive event\, but your advanced registration is required.\n\nIt i
 s suggested that you bring nonperishable food (canned\, or in a box) to be
  donated to the St. Martin's Church Food Pantry.\n\nThe Bethesda Regional 
 Services Center\, located in downtown Bethesda\, is convenient to the Beth
 esda Metro station via SkyWalk located near the Kid Museum and is also abo
 ve a public parking garage. The closest entrance to both the metro station
  and the parking garage is accessed on the plaza level\, past the playgrou
 nd and on the right after the daycare.
X-WR-RELCALID:6a13d71b25fedc5a4cc38f6a4ccaec27
X-WR-TIMEZONE:America/New_York
BEGIN:VTIMEZONE
TZID:America/New_York
BEGIN:STANDARD
TZNAME:EST
DTSTART:20241103T020000
TZOFFSETFROM:-0400
TZOFFSETTO:-0500
RDATE:20251102T020000
END:STANDARD
BEGIN:DAYLIGHT
TZNAME:EDT
DTSTART:20240310T020000
TZOFFSETFROM:-0500
TZOFFSETTO:-0400
RDATE:20250309T020000
RDATE:20260308T020000
END:DAYLIGHT
END:VTIMEZONE
BEGIN:VEVENT
UID:b763d552-0a3a-48a6-8fc1-854cee7f5a3a
DTSTAMP:20260419T150001Z
DESCRIPTION:¡Únase al Grupo Latino de DSNMC para celebrar las fiestas! Nos 
 reuniremos este sábado\, 7 de diciembre\, de 1:00 pm a 4:00 pm. Este event
 o será una comida compartida\; por favor regístrese aquí para traer un pla
 tillo y compartir. Si desea participar en un intercambio de regalos\, trai
 ga un regalo envuelto de $10 o menos. Asegúrese de que el regalo esté etiq
 uetado para indicar a qué grupo de edad está destinado.\n\nTodos son bienv
 enidos a este evento festivo\, pero se requiere inscripción previa.\nSe su
 giere traer alimentos no perecederos (enlatados o en caja) para donar a la
  despensa de alimentos de la Iglesia St. Martin.\nBethesda Regional Servic
 es Center\nWisconsin Conference Room - 2nd Floor\n4805 Edgemoor Lane\nBeth
 esda\, MD 20814\n\nEl Centro de Servicios Regionales de Bethesda\, ubicado
  en el centro de Bethesda\, está convenientemente conectado con la estació
 n de metro de Bethesda a través de un SkyWalk ubicado cerca del Kid Museum
  y también se encuentra sobre un garaje de estacionamiento público. La ent
 rada más cercana tanto a la estación de metro como al garaje de estacionam
 iento se encuentra en el nivel de la plaza\, pasando el área de juegos y a
  la derecha después de la guardería.\n\n__________\n\nJoin the DSNMC Grupo
  Latino to celebrate the holidays! We will gather this Saturday\, December
  7\, from 1:00pm to 4:00pm. This event will be a potluck\; please sign-up 
 here to bring a dish to share. If you would like to participate in a gift 
 exchange\, please bring a wrapped gift of $10 or less. Make sure the gift 
 is labeled to indicate what age group it is for. All are welcome to attend
  this festive event\, but your advanced registration is required.\n\nIt is
  suggested that you bring nonperishable food (canned\, or in a box) to be 
 donated to the St. Martin's Church Food Pantry.\n\nThe Bethesda Regional S
 ervices Center\, located in downtown Bethesda\, is convenient to the Bethe
 sda Metro station via SkyWalk located near the Kid Museum and is also abov
 e a public parking garage. The closest entrance to both the metro station 
 and the parking garage is accessed on the plaza level\, past the playgroun
 d and on the right after the daycare.
DTSTART;TZID=America/New_York:20241207T130000
DTEND;TZID=America/New_York:20241207T160000
LOCATION:4805 Edgemoor Ln\, Bethesda\, MD 20814 US
SUMMARY:Fiesta navideña del Grupo Latino (Grupo Latino Holiday Party)
END:VEVENT
END:VCALENDAR
