BEGIN:VCALENDAR
VERSION:2.0
PRODID:-//dsnmc.org//NONSGML kigkonsult.se iCalcreator 2.30.10//
CALSCALE:GREGORIAN
METHOD:PUBLISH
UID:2a49358b-1def-4b20-aa65-ad536d24ba69
X-WR-CALDESC:In-person Teen Hangout!\n\nJoin DSNMC for lunch and a movie! T
 his event is for teens and parents\, caregivers\, and personal support pro
 fessionals. The teens will have lunch at the Silver Diner at Rio in Gaithe
 rsburg and then take in a movie at the AMC Rio just across the lobby. This
  in-person hangout will be a great social activity and also include opport
 unities to practice dining out skills such as menu selection and paying ch
 ecks.\n\nLunch will be paid for individually by each participant and DSNMC
  will provide the movie tickets. Each lunch participant should come prepar
 ed with either cash or a credit card to pay their lunch check.\n\nPlease n
 ote that the posted end time of 4:00pm is an estimate\; we will provide a 
 more concrete time closer to the event after the movie is selected.\n\nPar
 ents\, caregivers\, and personal care professionals attending the event wi
 ll be seated at a separate table to promote autonomy and learning about th
 e teens attending.\n\nSilver Diner at Rio/AMC Rio\n9811 Washington Blvd\nG
 aithersburg\, MD 20878\n\n--------------------\n\nHangout adolescente en p
 ersona!\n\n¡Únase a DSNMC para almorzar y ver una película! Este evento es
  para adolescentes y padres\, cuidadores y profesionales de apoyo personal
 . Los adolescentes almorzarán en el Silver Diner at Rio en Gaithersburg y 
 luego verán una película en el AMC Rio justo al otro lado del lobby (¡eleg
 iremos la película cuando se acerque la fecha!). Este encuentro en persona
  será una gran actividad social y también incluirá oportunidades para prac
 ticar habilidades para salir a cenar\, como la selección del menú y el pag
 o de cheques.\n\nEl almuerzo será pagado individualmente por cada particip
 ante y DSNMC proporcionará las entradas para el cine. Cada participante de
 l almuerzo debe venir preparado con efectivo o tarjeta de crédito para pag
 ar su cheque de almuerzo.\n\nTenga en cuenta que la hora de finalización p
 ublicada a las 4:00 p. m. es una estimación\; Proporcionaremos una hora má
 s concreta más cerca del evento después de que se seleccione la película.
 \n\nLos padres\, cuidadores y profesionales del cuidado personal que asist
 an al evento se sentarán en una mesa separada para promover la autonomía y
  el aprendizaje sobre los adolescentes que asistan.\n\nSilver Diner at Rio
 /AMC Rio\n9811 Washington Blvd\nGaithersburg\, MD 20878
X-WR-RELCALID:5ff07e4066c07b2d3e22698fe39978a5
X-WR-TIMEZONE:America/New_York
BEGIN:VTIMEZONE
TZID:America/New_York
BEGIN:STANDARD
TZNAME:EST
DTSTART:20241103T020000
TZOFFSETFROM:-0400
TZOFFSETTO:-0500
RDATE:20251102T020000
END:STANDARD
BEGIN:DAYLIGHT
TZNAME:EDT
DTSTART:20240310T020000
TZOFFSETFROM:-0500
TZOFFSETTO:-0400
RDATE:20250309T020000
RDATE:20260308T020000
END:DAYLIGHT
END:VTIMEZONE
BEGIN:VEVENT
UID:ceff0d7a-8150-4a9b-9078-10ac6f776479
DTSTAMP:20260419T144621Z
DESCRIPTION:In-person Teen Hangout!\n\nJoin DSNMC for lunch and a movie! Th
 is event is for teens and parents\, caregivers\, and personal support prof
 essionals. The teens will have lunch at the Silver Diner at Rio in Gaither
 sburg and then take in a movie at the AMC Rio just across the lobby. This 
 in-person hangout will be a great social activity and also include opportu
 nities to practice dining out skills such as menu selection and paying che
 cks.\n\nLunch will be paid for individually by each participant and DSNMC 
 will provide the movie tickets. Each lunch participant should come prepare
 d with either cash or a credit card to pay their lunch check.\n\nPlease no
 te that the posted end time of 4:00pm is an estimate\; we will provide a m
 ore concrete time closer to the event after the movie is selected.\n\nPare
 nts\, caregivers\, and personal care professionals attending the event wil
 l be seated at a separate table to promote autonomy and learning about the
  teens attending.\n\nSilver Diner at Rio/AMC Rio\n9811 Washington Blvd\nGa
 ithersburg\, MD 20878\n\n--------------------\n\nHangout adolescente en pe
 rsona!\n\n¡Únase a DSNMC para almorzar y ver una película! Este evento es 
 para adolescentes y padres\, cuidadores y profesionales de apoyo personal.
  Los adolescentes almorzarán en el Silver Diner at Rio en Gaithersburg y l
 uego verán una película en el AMC Rio justo al otro lado del lobby (¡elegi
 remos la película cuando se acerque la fecha!). Este encuentro en persona 
 será una gran actividad social y también incluirá oportunidades para pract
 icar habilidades para salir a cenar\, como la selección del menú y el pago
  de cheques.\n\nEl almuerzo será pagado individualmente por cada participa
 nte y DSNMC proporcionará las entradas para el cine. Cada participante del
  almuerzo debe venir preparado con efectivo o tarjeta de crédito para paga
 r su cheque de almuerzo.\n\nTenga en cuenta que la hora de finalización pu
 blicada a las 4:00 p. m. es una estimación\; Proporcionaremos una hora más
  concreta más cerca del evento después de que se seleccione la película.\n
 \nLos padres\, cuidadores y profesionales del cuidado personal que asistan
  al evento se sentarán en una mesa separada para promover la autonomía y e
 l aprendizaje sobre los adolescentes que asistan.\n\nSilver Diner at Rio/A
 MC Rio\n9811 Washington Blvd\nGaithersburg\, MD 20878
DTSTART;TZID=America/New_York:20241207T120000
DTEND;TZID=America/New_York:20241207T160000
LOCATION:9811 Washingtonian Blvd\, Gaithersburg\, MD 20878 US
SUMMARY:Teen Lunch & Movie Outing
END:VEVENT
END:VCALENDAR
