BEGIN:VCALENDAR
VERSION:2.0
PRODID:-//dsnmc.org//NONSGML kigkonsult.se iCalcreator 2.30.10//
CALSCALE:GREGORIAN
METHOD:PUBLISH
UID:a1f730b6-14a2-4366-8b5a-0d7e88e48881
X-WR-CALDESC:Únase a nuestras reuniones en español el segundo lunes de cada
  mes. Envíe un correo electrónico a nuestro coordinador de grupo latino pa
 ra recibir la información de la reunión de Zoom.\n\nCome join our all-Span
 ish meetings the second Monday of every month. Email our Latino group coor
 dinator for more information.
X-WR-RELCALID:312c74bfdf13771bad69352565bffd4f
X-WR-TIMEZONE:America/New_York
BEGIN:VTIMEZONE
TZID:America/New_York
BEGIN:STANDARD
TZNAME:EST
DTSTART:20241103T020000
TZOFFSETFROM:-0400
TZOFFSETTO:-0500
RDATE:20251102T020000
END:STANDARD
BEGIN:DAYLIGHT
TZNAME:EDT
DTSTART:20240310T020000
TZOFFSETFROM:-0500
TZOFFSETTO:-0400
RDATE:20250309T020000
RDATE:20260308T020000
END:DAYLIGHT
END:VTIMEZONE
BEGIN:VEVENT
UID:7c3ec9dd-5650-453a-be7c-1fd04c962bdc
DTSTAMP:20260419T144900Z
DESCRIPTION:Únase a nuestras reuniones en español el segundo lunes de cada 
 mes. Envíe un correo electrónico a nuestro coordinador de grupo latino par
 a recibir la información de la reunión de Zoom.\n\nCome join our all-Spani
 sh meetings the second Monday of every month. Email our Latino group coord
 inator for more information.
DTSTART;TZID=America/New_York:20241209T193000
DTEND;TZID=America/New_York:20241209T210000
LOCATION:https://us02web.zoom.us/j/85698498039
SUMMARY:DSNMC Grupo Latino Meeting
END:VEVENT
END:VCALENDAR
