BEGIN:VCALENDAR
VERSION:2.0
PRODID:-//dsnmc.org//NONSGML kigkonsult.se iCalcreator 2.30.10//
CALSCALE:GREGORIAN
METHOD:PUBLISH
UID:601a40df-8f1d-434b-995a-9e9def9e0141
X-WR-CALDESC:This committee will discuss goals\, objectives and strategies 
 to support the needs of our transitioning youth families.\n\n
X-WR-RELCALID:80b08f0fe08a3cb64e6a1242632627d2
X-WR-TIMEZONE:America/New_York
BEGIN:VTIMEZONE
TZID:America/New_York
BEGIN:STANDARD
TZNAME:EST
DTSTART:20241103T020000
TZOFFSETFROM:-0400
TZOFFSETTO:-0500
RDATE:20251102T020000
END:STANDARD
BEGIN:DAYLIGHT
TZNAME:EDT
DTSTART:20240310T020000
TZOFFSETFROM:-0500
TZOFFSETTO:-0400
RDATE:20250309T020000
RDATE:20260308T020000
END:DAYLIGHT
END:VTIMEZONE
BEGIN:VEVENT
UID:e67fe3d9-89fc-4d1f-aded-ff7db4e4c97d
DTSTAMP:20260419T145546Z
DESCRIPTION:This committee will discuss goals\, objectives and strategies t
 o support the needs of our transitioning youth families.\n\n
DTSTART;TZID=America/New_York:20241210T193000
DTEND;TZID=America/New_York:20241210T203000
LOCATION:
SUMMARY:Transitioning Youth and Adult Committee
END:VEVENT
END:VCALENDAR
