BEGIN:VCALENDAR
VERSION:2.0
PRODID:-//dsnmc.org//NONSGML kigkonsult.se iCalcreator 2.30.10//
CALSCALE:GREGORIAN
METHOD:PUBLISH
UID:83436c7e-73e1-4149-96c3-d86c00920dbf
X-WR-CALDESC:The DSNMC New Family Outreach Committee is dedicated to making
  a first connection with families who have recently received a Down syndro
 me diagnosis. Through our First Call program\, monthly playdates and conne
 cting with medical professionals in the area we are hoping to create a mor
 e supportive transition into the Down syndrome community. If you are inter
 ested in being part of the New Family Outreach Committee\, please contact 
 Kristi Maeng at newfamilies@dsnmc.org.
X-WR-RELCALID:a52ea2a1ed561cd932ebd4f9b8d61d90
X-WR-TIMEZONE:America/New_York
BEGIN:VTIMEZONE
TZID:America/New_York
BEGIN:STANDARD
TZNAME:EST
DTSTART:20241103T020000
TZOFFSETFROM:-0400
TZOFFSETTO:-0500
RDATE:20251102T020000
END:STANDARD
BEGIN:DAYLIGHT
TZNAME:EDT
DTSTART:20240310T020000
TZOFFSETFROM:-0500
TZOFFSETTO:-0400
RDATE:20250309T020000
RDATE:20260308T020000
END:DAYLIGHT
END:VTIMEZONE
BEGIN:VEVENT
UID:9e96a035-a84b-4a1e-a629-b84b5eceac17
DTSTAMP:20260419T145013Z
DESCRIPTION:The DSNMC New Family Outreach Committee is dedicated to making 
 a first connection with families who have recently received a Down syndrom
 e diagnosis. Through our First Call program\, monthly playdates and connec
 ting with medical professionals in the area we are hoping to create a more
  supportive transition into the Down syndrome community. If you are intere
 sted in being part of the New Family Outreach Committee\, please contact K
 risti Maeng at newfamilies@dsnmc.org.
DTSTART;TZID=America/New_York:20241211T203000
DTEND;TZID=America/New_York:20241211T220000
LOCATION:
SUMMARY:New Family Outreach Committee
END:VEVENT
END:VCALENDAR
