BEGIN:VCALENDAR
VERSION:2.0
PRODID:-//dsnmc.org//NONSGML kigkonsult.se iCalcreator 2.30.10//
CALSCALE:GREGORIAN
METHOD:PUBLISH
UID:f6584b25-9d8c-4952-8111-f73129fe1271
X-WR-CALDESC:A wonderful family in the Silver Spring area has a large holid
 ay light display and has invited DSNMC to view the decorations on December
  14th\, from 5:30 pm - 7:30 pm.  This family will be providing a small gif
 t to everyone who comes by.  You can park on a neighborhood street and wal
 k to the house.  While registration is not necessary\, if you know that yo
 u will be going\, please let Angela Della (admin@dsnmc.org) know.  The hos
 t wants to be sure that he has enough goodies for our membership.  See fly
 er for details.
X-WR-RELCALID:b837198cf0e55e5c743b676925c299e6
X-WR-TIMEZONE:America/New_York
BEGIN:VTIMEZONE
TZID:America/New_York
BEGIN:STANDARD
TZNAME:EST
DTSTART:20241103T020000
TZOFFSETFROM:-0400
TZOFFSETTO:-0500
RDATE:20251102T020000
END:STANDARD
BEGIN:DAYLIGHT
TZNAME:EDT
DTSTART:20240310T020000
TZOFFSETFROM:-0500
TZOFFSETTO:-0400
RDATE:20250309T020000
RDATE:20260308T020000
END:DAYLIGHT
END:VTIMEZONE
BEGIN:VEVENT
UID:dd71d023-db76-4afd-9f31-575029a7afee
DTSTAMP:20260419T144621Z
DESCRIPTION:A wonderful family in the Silver Spring area has a large holida
 y light display and has invited DSNMC to view the decorations on December 
 14th\, from 5:30 pm - 7:30 pm.  This family will be providing a small gift
  to everyone who comes by.  You can park on a neighborhood street and walk
  to the house.  While registration is not necessary\, if you know that you
  will be going\, please let Angela Della (admin@dsnmc.org) know.  The host
  wants to be sure that he has enough goodies for our membership.  See flye
 r for details.
DTSTART;TZID=America/New_York:20241214T173000
DTEND;TZID=America/New_York:20241214T193000
LOCATION:Forest Glen Court\, Silver Spring Maryland
SUMMARY:Festive Holiday Lights - Merry Everything\, Santa & Friends
END:VEVENT
END:VCALENDAR
