BEGIN:VCALENDAR
VERSION:2.0
PRODID:-//dsnmc.org//NONSGML kigkonsult.se iCalcreator 2.30.10//
CALSCALE:GREGORIAN
METHOD:PUBLISH
UID:205d922b-748c-4edd-9d73-3e9b33351aaa
X-WR-CALDESC:DSNMC adult self-advocates and teens\, along with parents\, ca
 regivers\, personal support persons\, and mentors are invited for a fun ni
 ght of getting in the holiday spirit. Our band of merry friends will visit
  ZooLights at the National Zoo on Saturday\, December 14\, from 6:00pm to 
 8:00pm.\n\nA limited number of tickets are available and we are unlikely t
 o be able to secure more. Please keep this in mind when registering for th
 is event.\n\nMeet-up details will be shared closer to the event. Stay tune
 d!\n\nSmithsonian's National Zoo & Conservation Biology Institute\n3001 Co
 nnecticut Avenue NW\, Washington\, DC 20008\n\nPlease contact Matt Mullin 
 at programs-events@dsnmc.org with any questions.\n\n_____\n\nLos autodefen
 sores adultos y adolescentes de DSNMC\, junto con padres\, cuidadores\, pe
 rsonas de apoyo personal y mentores\, están invitados a una divertida noch
 e para entrar en el espíritu navideño. Nuestro grupo de amigos alegres vis
 itará *ZooLights* en el Zoológico Nacional el sábado 14 de diciembre\, de 
 6:00 p.m. a 8:00 p.m.\n\nHay un número limitado de boletos disponibles y e
 s poco probable que podamos obtener más. Por favor\, tengan esto en cuenta
  al registrarse para este evento.\n\nLos detalles del punto de encuentro s
 e compartirán más cerca de la fecha del evento. ¡Estén atentos!\n\nZoológi
 co Nacional del Smithsonian & Instituto de Biología de la Conservación\n30
 01 Connecticut Avenue NW\, Washington\, DC 20008\n\nPor favor\, contacten 
 a Matt Mullin en programs-events@dsnmc.org para cualquier pregunta.
X-WR-RELCALID:7f2ab429dfb7bc8cb64609a9979009ee
X-WR-TIMEZONE:America/New_York
BEGIN:VTIMEZONE
TZID:America/New_York
BEGIN:STANDARD
TZNAME:EST
DTSTART:20241103T020000
TZOFFSETFROM:-0400
TZOFFSETTO:-0500
RDATE:20251102T020000
END:STANDARD
BEGIN:DAYLIGHT
TZNAME:EDT
DTSTART:20240310T020000
TZOFFSETFROM:-0500
TZOFFSETTO:-0400
RDATE:20250309T020000
RDATE:20260308T020000
END:DAYLIGHT
END:VTIMEZONE
BEGIN:VEVENT
UID:1651a074-1874-4ece-8cf0-f167f236ce44
DTSTAMP:20260419T144627Z
DESCRIPTION:DSNMC adult self-advocates and teens\, along with parents\, car
 egivers\, personal support persons\, and mentors are invited for a fun nig
 ht of getting in the holiday spirit. Our band of merry friends will visit 
 ZooLights at the National Zoo on Saturday\, December 14\, from 6:00pm to 8
 :00pm.\n\nA limited number of tickets are available and we are unlikely to
  be able to secure more. Please keep this in mind when registering for thi
 s event.\n\nMeet-up details will be shared closer to the event. Stay tuned
 !\n\nSmithsonian's National Zoo & Conservation Biology Institute\n3001 Con
 necticut Avenue NW\, Washington\, DC 20008\n\nPlease contact Matt Mullin a
 t programs-events@dsnmc.org with any questions.\n\n_____\n\nLos autodefens
 ores adultos y adolescentes de DSNMC\, junto con padres\, cuidadores\, per
 sonas de apoyo personal y mentores\, están invitados a una divertida noche
  para entrar en el espíritu navideño. Nuestro grupo de amigos alegres visi
 tará *ZooLights* en el Zoológico Nacional el sábado 14 de diciembre\, de 6
 :00 p.m. a 8:00 p.m.\n\nHay un número limitado de boletos disponibles y es
  poco probable que podamos obtener más. Por favor\, tengan esto en cuenta 
 al registrarse para este evento.\n\nLos detalles del punto de encuentro se
  compartirán más cerca de la fecha del evento. ¡Estén atentos!\n\nZoológic
 o Nacional del Smithsonian & Instituto de Biología de la Conservación\n300
 1 Connecticut Avenue NW\, Washington\, DC 20008\n\nPor favor\, contacten a
  Matt Mullin en programs-events@dsnmc.org para cualquier pregunta.
DTSTART;TZID=America/New_York:20241214T180000
DTEND;TZID=America/New_York:20241214T200000
LOCATION:3001 Connecticut Ave\, Washington\, DC 20008 US
SUMMARY:ZooLights - Self Advocate Community Network and Teen Outing
END:VEVENT
END:VCALENDAR
