BEGIN:VCALENDAR
VERSION:2.0
PRODID:-//dsnmc.org//NONSGML kigkonsult.se iCalcreator 2.30.10//
CALSCALE:GREGORIAN
METHOD:PUBLISH
UID:1550d73e-5223-4943-82aa-3f43251c3934
X-WR-CALDESC:
X-WR-RELCALID:3619b5d78ff6d4d1fd6820af61736f49
X-WR-TIMEZONE:America/New_York
BEGIN:VTIMEZONE
TZID:America/New_York
BEGIN:STANDARD
TZNAME:EST
DTSTART:20241103T020000
TZOFFSETFROM:-0400
TZOFFSETTO:-0500
RDATE:20251102T020000
END:STANDARD
BEGIN:DAYLIGHT
TZNAME:EDT
DTSTART:20240310T020000
TZOFFSETFROM:-0500
TZOFFSETTO:-0400
RDATE:20250309T020000
RDATE:20260308T020000
END:DAYLIGHT
END:VTIMEZONE
BEGIN:VEVENT
UID:531fcdab-0437-44eb-8fdd-d079cc6c59d2
DTSTAMP:20260419T144505Z
DESCRIPTION:
DTSTART;TZID=America/New_York:20241216T193000
DTEND;TZID=America/New_York:20241216T210000
LOCATION:
SUMMARY:Board Meeting
END:VEVENT
END:VCALENDAR
