BEGIN:VCALENDAR
VERSION:2.0
PRODID:-//dsnmc.org//NONSGML kigkonsult.se iCalcreator 2.30.10//
CALSCALE:GREGORIAN
METHOD:PUBLISH
UID:6158c89b-8df6-45bf-9aaa-db0f7e95e01c
X-WR-CALDESC:The DSNMC Education Committee is now meeting on the third Thur
 sday of each month from 7:15 pm - 8:15 pm\, and new members are welcome to
  join the committee.\n\nCo-chairs: \nKalani Brown (kalaniuke@hotmail.com) 
 and Carrie Swann (carrie.swann@gmail.com)\n\nJoin Zoom Meeting\nhttps://us
 02web.zoom.us/j/86288520613?pwd=TmIyZ3JDcmVCRUNuanRRWWNwT2h6QT09\n\nMeetin
 g ID: 862 8852 0613\nPasscode: 785188\nOne tap mobile\n+13017158592
X-WR-RELCALID:1daa2de44669f62742c40cbe82040bcb
X-WR-TIMEZONE:America/New_York
BEGIN:VTIMEZONE
TZID:America/New_York
BEGIN:STANDARD
TZNAME:EST
DTSTART:20241103T020000
TZOFFSETFROM:-0400
TZOFFSETTO:-0500
RDATE:20251102T020000
END:STANDARD
BEGIN:DAYLIGHT
TZNAME:EDT
DTSTART:20240310T020000
TZOFFSETFROM:-0500
TZOFFSETTO:-0400
RDATE:20250309T020000
RDATE:20260308T020000
END:DAYLIGHT
END:VTIMEZONE
BEGIN:VEVENT
UID:c1dc8e0e-f9d9-4019-8025-5e5221bf91fb
DTSTAMP:20260419T144717Z
DESCRIPTION:The DSNMC Education Committee is now meeting on the third Thurs
 day of each month from 7:15 pm - 8:15 pm\, and new members are welcome to 
 join the committee.\n\nCo-chairs: \nKalani Brown (kalaniuke@hotmail.com) a
 nd Carrie Swann (carrie.swann@gmail.com)\n\nJoin Zoom Meeting\nhttps://us0
 2web.zoom.us/j/86288520613?pwd=TmIyZ3JDcmVCRUNuanRRWWNwT2h6QT09\n\nMeeting
  ID: 862 8852 0613\nPasscode: 785188\nOne tap mobile\n+13017158592
DTSTART;TZID=America/New_York:20241219T191500
DTEND;TZID=America/New_York:20241219T201500
LOCATION:
SUMMARY:DSNMC Education Committee Meeting
END:VEVENT
END:VCALENDAR
