BEGIN:VCALENDAR
VERSION:2.0
PRODID:-//dsnmc.org//NONSGML kigkonsult.se iCalcreator 2.30.10//
CALSCALE:GREGORIAN
METHOD:PUBLISH
UID:9a64af1f-c8ea-47fe-a32d-2c2d5f85e242
X-WR-CALDESC:In-home Playgroup for Families with Children Age 0-3\n\nTo Reg
 ister: https://dsnmc.networkforgood.com/events/79471-dsnmc-january-0-3-pla
 ygroup\n\nJoin DSNMC for the latest installment of our 0-3 Playgroup gathe
 ring. This event will take place in a private home in Silver Spring. The e
 xact location will be shared with registrants. This gathering is informal 
 and meant to provide a fun and welcoming experience for our families to co
 nnect and socialize. Light refreshments will be provided\, but feel free t
 o bring anything you or your little ones might want to have on hand. Pleas
 e note that a hypo-allergenic dog frequently visits the home\, but will no
 t be present for the playgroup. If you or anyone in your family are feelin
 g ill we kindly ask that you stay home and get better soon.\n\nSaturday\, 
 January 4\, 2025\n10:00 AM - 12:00 PM -- feel free to come and go at your 
 convenience.\nSilver Spring\, MD\n\nWhen registering\, be sure to include 
 a total count of adults and children attending from your family.\n\n______
 _\n\nÚnase a DSNMC para la última edición de nuestro grupo de juego para n
 iños de 0 a 3 años. Este evento se llevará a cabo en una casa privada en S
 ilver Spring. La ubicación exacta se compartirá con los inscritos. Este en
 cuentro es informal y tiene como objetivo ofrecer una experiencia divertid
 a y acogedora para que nuestras familias se conecten y socialicen. Se prop
 orcionarán refrigerios ligeros\, pero siéntase libre de traer cualquier co
 sa que usted o sus pequeños puedan necesitar. Si usted o alguien de su fam
 ilia se siente enfermo\, le pedimos amablemente que se quede en casa y se 
 recupere pronto.\nSábado\, 4 de enero de 2025\n10:00 AM - 12:00 PM -- pued
 e llegar y salir a su conveniencia.\nSilver Spring\, MD\n\nAl registrarse\
 , asegúrese de incluir el número total de adultos y niños que asistirán de
  su familia.\nNota: Un perro hipoalergénico visita frecuentemente la casa\
 , pero no estará presente durante el grupo de juego.
X-WR-RELCALID:2502c2477e127760873dee208e82619b
X-WR-TIMEZONE:America/New_York
BEGIN:VTIMEZONE
TZID:America/New_York
BEGIN:STANDARD
TZNAME:EST
DTSTART:20241103T020000
TZOFFSETFROM:-0400
TZOFFSETTO:-0500
RDATE:20251102T020000
END:STANDARD
BEGIN:DAYLIGHT
TZNAME:EDT
DTSTART:20240310T020000
TZOFFSETFROM:-0500
TZOFFSETTO:-0400
RDATE:20250309T020000
RDATE:20260308T020000
END:DAYLIGHT
END:VTIMEZONE
BEGIN:VEVENT
UID:f1442429-f0e8-4989-9665-11f5ca79bb3c
DTSTAMP:20260419T131901Z
DESCRIPTION:In-home Playgroup for Families with Children Age 0-3\n\nTo Regi
 ster: https://dsnmc.networkforgood.com/events/79471-dsnmc-january-0-3-play
 group\n\nJoin DSNMC for the latest installment of our 0-3 Playgroup gather
 ing. This event will take place in a private home in Silver Spring. The ex
 act location will be shared with registrants. This gathering is informal a
 nd meant to provide a fun and welcoming experience for our families to con
 nect and socialize. Light refreshments will be provided\, but feel free to
  bring anything you or your little ones might want to have on hand. Please
  note that a hypo-allergenic dog frequently visits the home\, but will not
  be present for the playgroup. If you or anyone in your family are feeling
  ill we kindly ask that you stay home and get better soon.\n\nSaturday\, J
 anuary 4\, 2025\n10:00 AM - 12:00 PM -- feel free to come and go at your c
 onvenience.\nSilver Spring\, MD\n\nWhen registering\, be sure to include a
  total count of adults and children attending from your family.\n\n_______
 \n\nÚnase a DSNMC para la última edición de nuestro grupo de juego para ni
 ños de 0 a 3 años. Este evento se llevará a cabo en una casa privada en Si
 lver Spring. La ubicación exacta se compartirá con los inscritos. Este enc
 uentro es informal y tiene como objetivo ofrecer una experiencia divertida
  y acogedora para que nuestras familias se conecten y socialicen. Se propo
 rcionarán refrigerios ligeros\, pero siéntase libre de traer cualquier cos
 a que usted o sus pequeños puedan necesitar. Si usted o alguien de su fami
 lia se siente enfermo\, le pedimos amablemente que se quede en casa y se r
 ecupere pronto.\nSábado\, 4 de enero de 2025\n10:00 AM - 12:00 PM -- puede
  llegar y salir a su conveniencia.\nSilver Spring\, MD\n\nAl registrarse\,
  asegúrese de incluir el número total de adultos y niños que asistirán de 
 su familia.\nNota: Un perro hipoalergénico visita frecuentemente la casa\,
  pero no estará presente durante el grupo de juego.
DTSTART;TZID=America/New_York:20250104T100000
DTEND;TZID=America/New_York:20250104T120000
LOCATION:Private home in Silver Spring: Will be shared with attendees close
 r to the date Silver Spring\, MD 20815
SUMMARY:DSNMC January 0-3 Playgroup
END:VEVENT
END:VCALENDAR
