BEGIN:VCALENDAR
VERSION:2.0
PRODID:-//dsnmc.org//NONSGML kigkonsult.se iCalcreator 2.30.10//
CALSCALE:GREGORIAN
METHOD:PUBLISH
UID:e5c34d3b-d294-493f-b010-1194140f91e5
X-WR-CALDESC:Kick-off 2025 with your friends at DSNMC's Holiday Party!\n\nT
 o register: https://dsnmc.networkforgood.com/events/79756-teens-self-advoc
 ates-holiday-party\n\nDSNMC's self advocates and teens are invited to join
  us as we kick-off 2025 with friendship\, fun\, and MUSIC! DJ Anderson wil
 l keep us dancing into the night as we celebrate the start of a great year
 . We'll also have refreshments and other activities to keep everyone engag
 ed and having fun.\n\nSaturday\, January 4\, 2025\n7:00 PM to 9:00 PM\n\nM
 ain Street - Poppy Boy's Kitchen\n50 Monroe Place\nRockville\, MD 20850\n-
 --\nPara registrarse: https://dsnmc.networkforgood.com/events/79756-teens-
 self-advocates-holiday-party\n\nLos auto defensores y adolescentes de DSNM
 C están invitados a unirse a nosotros para comenzar el 2025 con amistad\, 
 diversión y ¡MÚSICA! El DJ Anderson nos hará bailar toda la noche mientras
  celebramos el inicio de un gran año. También tendremos refrescos y otras 
 actividades para que todos se mantengan animados y divirtiéndose.\n\nSábad
 o\, 4 de enero de 2025\n7:00 PM a 9:00 PM\n\nMain Street - Poppy Boy's Kit
 chen\n50 Monroe Place\nRockville\, MD 20850
X-WR-RELCALID:69c8c8432a7a0821de4bf19cee215567
X-WR-TIMEZONE:America/New_York
BEGIN:VTIMEZONE
TZID:America/New_York
BEGIN:STANDARD
TZNAME:EST
DTSTART:20241103T020000
TZOFFSETFROM:-0400
TZOFFSETTO:-0500
RDATE:20251102T020000
END:STANDARD
BEGIN:DAYLIGHT
TZNAME:EDT
DTSTART:20240310T020000
TZOFFSETFROM:-0500
TZOFFSETTO:-0400
RDATE:20250309T020000
RDATE:20260308T020000
END:DAYLIGHT
END:VTIMEZONE
BEGIN:VEVENT
UID:67ed99df-b9c8-47bf-9183-69fcf5208542
DTSTAMP:20260419T132012Z
DESCRIPTION:Kick-off 2025 with your friends at DSNMC's Holiday Party!\n\nTo
  register: https://dsnmc.networkforgood.com/events/79756-teens-self-advoca
 tes-holiday-party\n\nDSNMC's self advocates and teens are invited to join 
 us as we kick-off 2025 with friendship\, fun\, and MUSIC! DJ Anderson will
  keep us dancing into the night as we celebrate the start of a great year.
  We'll also have refreshments and other activities to keep everyone engage
 d and having fun.\n\nSaturday\, January 4\, 2025\n7:00 PM to 9:00 PM\n\nMa
 in Street - Poppy Boy's Kitchen\n50 Monroe Place\nRockville\, MD 20850\n--
 -\nPara registrarse: https://dsnmc.networkforgood.com/events/79756-teens-s
 elf-advocates-holiday-party\n\nLos auto defensores y adolescentes de DSNMC
  están invitados a unirse a nosotros para comenzar el 2025 con amistad\, d
 iversión y ¡MÚSICA! El DJ Anderson nos hará bailar toda la noche mientras 
 celebramos el inicio de un gran año. También tendremos refrescos y otras a
 ctividades para que todos se mantengan animados y divirtiéndose.\n\nSábado
 \, 4 de enero de 2025\n7:00 PM a 9:00 PM\n\nMain Street - Poppy Boy's Kitc
 hen\n50 Monroe Place\nRockville\, MD 20850
DTSTART;TZID=America/New_York:20250104T190000
DTEND;TZID=America/New_York:20250104T220000
LOCATION:50 Monroe Pl\, Rockville\, MD 20850 US
SUMMARY:Teens + Self Advocates Holiday Party
END:VEVENT
END:VCALENDAR
