BEGIN:VCALENDAR
VERSION:2.0
PRODID:-//dsnmc.org//NONSGML kigkonsult.se iCalcreator 2.30.10//
CALSCALE:GREGORIAN
METHOD:PUBLISH
UID:e5b2bb25-5d25-445a-ad4c-f84565c8ec78
X-WR-CALDESC:Join our Teen Hangout program every Thursday at 6:30 via Zoom!
  For Ages 13 - 19. Families are welcome to join.
X-WR-RELCALID:165833488b84fb78c611e5d3d2b9b360
X-WR-TIMEZONE:America/New_York
BEGIN:VTIMEZONE
TZID:America/New_York
BEGIN:STANDARD
TZNAME:EST
DTSTART:20241103T020000
TZOFFSETFROM:-0400
TZOFFSETTO:-0500
RDATE:20251102T020000
END:STANDARD
BEGIN:DAYLIGHT
TZNAME:EDT
DTSTART:20240310T020000
TZOFFSETFROM:-0500
TZOFFSETTO:-0400
RDATE:20250309T020000
RDATE:20260308T020000
END:DAYLIGHT
END:VTIMEZONE
BEGIN:VEVENT
UID:7c218c11-e8fc-4531-a369-1624715f74a6
DTSTAMP:20260419T132135Z
DESCRIPTION:Join our Teen Hangout program every Thursday at 6:30 via Zoom! 
 For Ages 13 - 19. Families are welcome to join.
DTSTART;TZID=America/New_York:20250109T183000
DTEND;TZID=America/New_York:20250109T190000
LOCATION:
SUMMARY:Virtual Teen Hangout
END:VEVENT
END:VCALENDAR
