BEGIN:VCALENDAR
VERSION:2.0
PRODID:-//dsnmc.org//NONSGML kigkonsult.se iCalcreator 2.30.10//
CALSCALE:GREGORIAN
METHOD:PUBLISH
UID:3b0cdbed-582e-4d93-984b-1ccb66f58e77
X-WR-CALDESC:Due to the issued Winter Weather Advisory and the threat of un
 safe travel conditions we have decided to cancel this event. This will be 
 rescheduled. Stay tuned for more details.
X-WR-RELCALID:499017bf3701d14e56b26a796567645b
X-WR-TIMEZONE:America/New_York
BEGIN:VTIMEZONE
TZID:America/New_York
BEGIN:STANDARD
TZNAME:EST
DTSTART:20241103T020000
TZOFFSETFROM:-0400
TZOFFSETTO:-0500
RDATE:20251102T020000
END:STANDARD
BEGIN:DAYLIGHT
TZNAME:EDT
DTSTART:20240310T020000
TZOFFSETFROM:-0500
TZOFFSETTO:-0400
RDATE:20250309T020000
RDATE:20260308T020000
END:DAYLIGHT
END:VTIMEZONE
BEGIN:VEVENT
UID:2b43d2e1-5135-44f3-ad39-950dfb401716
DTSTAMP:20260419T132308Z
DESCRIPTION:Due to the issued Winter Weather Advisory and the threat of uns
 afe travel conditions we have decided to cancel this event. This will be r
 escheduled. Stay tuned for more details.
DTSTART;TZID=America/New_York:20250111T100000
DTEND;TZID=America/New_York:20250111T120000
LOCATION:4200 Kansas Ave\, Washington\, DC 20011 US
SUMMARY:CANCELED: Family Outreach & Social Meet-up
END:VEVENT
END:VCALENDAR
