BEGIN:VCALENDAR
VERSION:2.0
PRODID:-//dsnmc.org//NONSGML kigkonsult.se iCalcreator 2.30.10//
CALSCALE:GREGORIAN
METHOD:PUBLISH
UID:4a4bfeb6-962b-449c-a09f-bee6a55e12ad
X-WR-CALDESC:This committee will discuss goals\, objectives and strategies 
 to support the needs of our transitioning youth families.\n\n
X-WR-RELCALID:d1d2190698d658f0a5ec786ae2047cf3
X-WR-TIMEZONE:America/New_York
BEGIN:VTIMEZONE
TZID:America/New_York
BEGIN:STANDARD
TZNAME:EST
DTSTART:20241103T020000
TZOFFSETFROM:-0400
TZOFFSETTO:-0500
RDATE:20251102T020000
END:STANDARD
BEGIN:DAYLIGHT
TZNAME:EDT
DTSTART:20240310T020000
TZOFFSETFROM:-0500
TZOFFSETTO:-0400
RDATE:20250309T020000
RDATE:20260308T020000
END:DAYLIGHT
END:VTIMEZONE
BEGIN:VEVENT
UID:7ce537ca-74c3-4339-863a-3cbf2d32e7b2
DTSTAMP:20260419T132332Z
DESCRIPTION:This committee will discuss goals\, objectives and strategies t
 o support the needs of our transitioning youth families.\n\n
DTSTART;TZID=America/New_York:20250114T193000
DTEND;TZID=America/New_York:20250114T203000
LOCATION:
SUMMARY:Transitioning Youth and Adult Committee
END:VEVENT
END:VCALENDAR
