BEGIN:VCALENDAR
VERSION:2.0
PRODID:-//dsnmc.org//NONSGML kigkonsult.se iCalcreator 2.30.10//
CALSCALE:GREGORIAN
METHOD:PUBLISH
UID:f941d8d8-e017-47f4-97f4-c7fcbe078dac
X-WR-CALDESC:DSNMC is excited to announce the beginning of our 2025 Parent 
 Speaker Series with a webinar on toilet training.\n\nTo register: https://
 dsnmc.networkforgood.com/events/80688-2025-parent-speaker-series-toilet-tr
 aining\n\nJoin us for a dynamic webinar about navigating the complex journ
 ey of toilet training specifically for individuals with Down syndrome. Dr.
  Lina Patel\, PsyD will discuss potential medical\, behavioral\, learning\
 , and environmental factors that can impact successful toilet training and
  provide strategies to overcome unique challenges for those with Down synd
 rome.\n\nTuesday\, January 14\, 7:00 PM\nZoom -- details to be shared prio
 r to the webinar date.\nSpeaker: Dr. Lina Patel\, PsyD\, Children's Hospit
 al Colorado\n\n------\n\nDSNMC se complace en anunciar el comienzo de nues
 tra serie de conferencias para padres de 2025 con un seminario web sobre e
 l entrenamiento para ir al baño.\n\nPara registrarse: https://dsnmc.networ
 kforgood.com/events/80688-2025-parent-speaker-series-toilet-training\n\nÚn
 ase a nosotros para un seminario web dinámico sobre cómo navegar por el co
 mplejo proceso del entrenamiento para ir al baño\, específicamente para pe
 rsonas con síndrome de Down. La Dra. Lina Patel\, PsyD\, analizará los pos
 ibles factores médicos\, conductuales\, de aprendizaje y ambientales que p
 ueden afectar el éxito del entrenamiento para ir al baño y brindará estrat
 egias para superar los desafíos únicos de las personas con síndrome de Dow
 n.\n\nMartes 14 de enero\, 7:00 p. m.\nZoom: se compartirán los detalles a
 ntes de la fecha del seminario web.\nOradora: Dra. Lina Patel\, PsyD\, Chi
 ldren's Hospital Colorado
X-WR-RELCALID:7628d447be81c59ac56ba130bf0e4b0f
X-WR-TIMEZONE:America/New_York
BEGIN:VTIMEZONE
TZID:America/New_York
BEGIN:STANDARD
TZNAME:EST
DTSTART:20241103T020000
TZOFFSETFROM:-0400
TZOFFSETTO:-0500
RDATE:20251102T020000
END:STANDARD
BEGIN:DAYLIGHT
TZNAME:EDT
DTSTART:20240310T020000
TZOFFSETFROM:-0500
TZOFFSETTO:-0400
RDATE:20250309T020000
RDATE:20260308T020000
END:DAYLIGHT
END:VTIMEZONE
BEGIN:VEVENT
UID:0cc5ab2b-8765-4146-859f-573a72cad4c0
DTSTAMP:20260419T131948Z
DESCRIPTION:DSNMC is excited to announce the beginning of our 2025 Parent S
 peaker Series with a webinar on toilet training.\n\nTo register: https://d
 snmc.networkforgood.com/events/80688-2025-parent-speaker-series-toilet-tra
 ining\n\nJoin us for a dynamic webinar about navigating the complex journe
 y of toilet training specifically for individuals with Down syndrome. Dr. 
 Lina Patel\, PsyD will discuss potential medical\, behavioral\, learning\,
  and environmental factors that can impact successful toilet training and 
 provide strategies to overcome unique challenges for those with Down syndr
 ome.\n\nTuesday\, January 14\, 7:00 PM\nZoom -- details to be shared prior
  to the webinar date.\nSpeaker: Dr. Lina Patel\, PsyD\, Children's Hospita
 l Colorado\n\n------\n\nDSNMC se complace en anunciar el comienzo de nuest
 ra serie de conferencias para padres de 2025 con un seminario web sobre el
  entrenamiento para ir al baño.\n\nPara registrarse: https://dsnmc.network
 forgood.com/events/80688-2025-parent-speaker-series-toilet-training\n\nÚna
 se a nosotros para un seminario web dinámico sobre cómo navegar por el com
 plejo proceso del entrenamiento para ir al baño\, específicamente para per
 sonas con síndrome de Down. La Dra. Lina Patel\, PsyD\, analizará los posi
 bles factores médicos\, conductuales\, de aprendizaje y ambientales que pu
 eden afectar el éxito del entrenamiento para ir al baño y brindará estrate
 gias para superar los desafíos únicos de las personas con síndrome de Down
 .\n\nMartes 14 de enero\, 7:00 p. m.\nZoom: se compartirán los detalles an
 tes de la fecha del seminario web.\nOradora: Dra. Lina Patel\, PsyD\, Chil
 dren's Hospital Colorado
DTSTART;TZID=America/New_York:20250114T190000
DTEND;TZID=America/New_York:20250114T203000
LOCATION:Zoom -- details to be shared prior to the webinar date.
SUMMARY:2025 Parent Speaker Series - Toilet Training
END:VEVENT
END:VCALENDAR
