BEGIN:VCALENDAR
VERSION:2.0
PRODID:-//dsnmc.org//NONSGML kigkonsult.se iCalcreator 2.30.10//
CALSCALE:GREGORIAN
METHOD:PUBLISH
UID:cdc3495f-ce57-449f-bf2f-fa3e00249d14
X-WR-CALDESC:
X-WR-RELCALID:18ee0a915063756397c858e57941094c
X-WR-TIMEZONE:America/New_York
BEGIN:VTIMEZONE
TZID:America/New_York
BEGIN:STANDARD
TZNAME:EST
DTSTART:20241103T020000
TZOFFSETFROM:-0400
TZOFFSETTO:-0500
RDATE:20251102T020000
END:STANDARD
BEGIN:DAYLIGHT
TZNAME:EDT
DTSTART:20240310T020000
TZOFFSETFROM:-0500
TZOFFSETTO:-0400
RDATE:20250309T020000
RDATE:20260308T020000
END:DAYLIGHT
END:VTIMEZONE
BEGIN:VEVENT
UID:a9f98f90-01e8-492a-97f4-f4d3dfb80431
DTSTAMP:20260419T131948Z
DESCRIPTION:
DTSTART;TZID=America/New_York:20250127T193000
DTEND;TZID=America/New_York:20250127T210000
LOCATION:
SUMMARY:Board Meeting
END:VEVENT
END:VCALENDAR
