BEGIN:VCALENDAR
VERSION:2.0
PRODID:-//dsnmc.org//NONSGML kigkonsult.se iCalcreator 2.30.10//
CALSCALE:GREGORIAN
METHOD:PUBLISH
UID:11d071cf-40d3-470c-8428-12a1522d5f35
X-WR-CALDESC:Join DSAmd and DSNMC for an insightful presentation led by Vic
 toria Z. Sulerzyski\, Esquire Of Counsel. This session will explore key le
 gal considerations in estate planning for families with loved ones who hav
 e disabilities.\n
X-WR-RELCALID:22a2138b535c14754969bbb3314b6fa0
X-WR-TIMEZONE:America/New_York
BEGIN:VTIMEZONE
TZID:America/New_York
BEGIN:STANDARD
TZNAME:EST
DTSTART:20241103T020000
TZOFFSETFROM:-0400
TZOFFSETTO:-0500
RDATE:20251102T020000
END:STANDARD
BEGIN:DAYLIGHT
TZNAME:EDT
DTSTART:20240310T020000
TZOFFSETFROM:-0500
TZOFFSETTO:-0400
RDATE:20250309T020000
RDATE:20260308T020000
END:DAYLIGHT
END:VTIMEZONE
BEGIN:VEVENT
UID:1ffde690-30ac-432a-84ca-d338490e63e3
DTSTAMP:20260419T132217Z
DESCRIPTION:Join DSAmd and DSNMC for an insightful presentation led by Vict
 oria Z. Sulerzyski\, Esquire Of Counsel. This session will explore key leg
 al considerations in estate planning for families with loved ones who have
  disabilities.\n
DTSTART;TZID=America/New_York:20250128T190000
DTEND;TZID=America/New_York:20250128T200000
LOCATION:Zoom
SUMMARY:Estate Planning presented by Victoria Z. Sulerzyski\, Esquire Of Co
 unsel
END:VEVENT
END:VCALENDAR
