BEGIN:VCALENDAR
VERSION:2.0
PRODID:-//dsnmc.org//NONSGML kigkonsult.se iCalcreator 2.30.10//
CALSCALE:GREGORIAN
METHOD:PUBLISH
UID:7f2b4d6e-796a-4e15-b072-c9c043bf4b3b
X-WR-CALDESC:Weather got you feeling chilly? Start summer dreamin' with our
  webinar on summer programming with Montgomery County Recreation\nJoin us 
 for a discussion with Megan Trifilo\, OTD\, OTR/L\, Recreation Specialist\
 , Inclusion and Therapeutic Recreation Programs\, with Montgomery County R
 ecreation about summer programming opportunities for members of our commun
 ity. Our conversation will cover key details about what is available and h
 ow to access them so that your summer is full of fun\, engaging and commun
 ity-oriented recreation.\n\nWhat: Parent/Caregiver Speaker Series: Summer 
 Programming with Montgomery County Recreation\nWhen: Tuesday\, February 18
 \, 7:00 PM\nWhere: Zoom! Details shared upon registration.\nWho: Parents/C
 aregivers interested in learning more about how to take advantage of summe
 r programming opportunities with Montgomery County Recreation.\n\nNeed Spa
 nish Translation? Reach out to programs-events@dsnmc.org by no later than 
 Thursday\, February 13.\n\n_____\n\nÚnase a nosotros para una conversación
  con Megan Trifilo\, OTD\, OTR/L\, Especialista en Recreación\, Programas 
 de Recreación Inclusiva y Terapéutica del Departamento de Recreación del C
 ondado de Montgomery\, sobre las oportunidades de programación de verano p
 ara los miembros de nuestra comunidad. Nuestra conversación cubrirá detall
 es clave sobre lo que está disponible y cómo acceder a estos programas par
 a que su verano esté lleno de actividades recreativas divertidas\, atracti
 vas y orientadas a la comunidad.\n\nQué: Serie de Charlas para Padres/Cuid
 adores: Programación de Verano con el Departamento de Recreación del Conda
 do de Montgomery\nCuándo: Martes\, 18 de febrero\, 7:00 PM\nDónde: ¡Zoom! 
 Los detalles se compartirán al registrarse.\nQuién: Padres/Cuidadores inte
 resados en aprender más sobre cómo aprovechar las oportunidades de program
 ación de verano con el Departamento de Recreación del Condado de Montgomer
 y.\n\n¿Necesita traducción al español? Comuníquese con programs-events@dsn
 mc.org a más tardar el jueves 13 de febrero.\n\n
X-WR-RELCALID:cfcb72cc3c1d80ae005befb0ee41c8fb
X-WR-TIMEZONE:America/New_York
BEGIN:VTIMEZONE
TZID:America/New_York
BEGIN:STANDARD
TZNAME:EST
DTSTART:20241103T020000
TZOFFSETFROM:-0400
TZOFFSETTO:-0500
RDATE:20251102T020000
END:STANDARD
BEGIN:DAYLIGHT
TZNAME:EDT
DTSTART:20240310T020000
TZOFFSETFROM:-0500
TZOFFSETTO:-0400
RDATE:20250309T020000
RDATE:20260308T020000
END:DAYLIGHT
END:VTIMEZONE
BEGIN:VEVENT
UID:5ab104f8-a160-43cd-8298-243059d40d26
DTSTAMP:20260419T120055Z
DESCRIPTION:Weather got you feeling chilly? Start summer dreamin' with our 
 webinar on summer programming with Montgomery County Recreation\nJoin us f
 or a discussion with Megan Trifilo\, OTD\, OTR/L\, Recreation Specialist\,
  Inclusion and Therapeutic Recreation Programs\, with Montgomery County Re
 creation about summer programming opportunities for members of our communi
 ty. Our conversation will cover key details about what is available and ho
 w to access them so that your summer is full of fun\, engaging and communi
 ty-oriented recreation.\n\nWhat: Parent/Caregiver Speaker Series: Summer P
 rogramming with Montgomery County Recreation\nWhen: Tuesday\, February 18\
 , 7:00 PM\nWhere: Zoom! Details shared upon registration.\nWho: Parents/Ca
 regivers interested in learning more about how to take advantage of summer
  programming opportunities with Montgomery County Recreation.\n\nNeed Span
 ish Translation? Reach out to programs-events@dsnmc.org by no later than T
 hursday\, February 13.\n\n_____\n\nÚnase a nosotros para una conversación 
 con Megan Trifilo\, OTD\, OTR/L\, Especialista en Recreación\, Programas d
 e Recreación Inclusiva y Terapéutica del Departamento de Recreación del Co
 ndado de Montgomery\, sobre las oportunidades de programación de verano pa
 ra los miembros de nuestra comunidad. Nuestra conversación cubrirá detalle
 s clave sobre lo que está disponible y cómo acceder a estos programas para
  que su verano esté lleno de actividades recreativas divertidas\, atractiv
 as y orientadas a la comunidad.\n\nQué: Serie de Charlas para Padres/Cuida
 dores: Programación de Verano con el Departamento de Recreación del Condad
 o de Montgomery\nCuándo: Martes\, 18 de febrero\, 7:00 PM\nDónde: ¡Zoom! L
 os detalles se compartirán al registrarse.\nQuién: Padres/Cuidadores inter
 esados en aprender más sobre cómo aprovechar las oportunidades de programa
 ción de verano con el Departamento de Recreación del Condado de Montgomery
 .\n\n¿Necesita traducción al español? Comuníquese con programs-events@dsnm
 c.org a más tardar el jueves 13 de febrero.\n\n
DTSTART;TZID=America/New_York:20250218T190000
DTEND;TZID=America/New_York:20250218T200000
LOCATION:Zoom
SUMMARY:Parent/Cargiver Speaker Series: Summer Programming with Montgomery 
 County Recreation
END:VEVENT
END:VCALENDAR
