BEGIN:VCALENDAR
VERSION:2.0
PRODID:-//dsnmc.org//NONSGML kigkonsult.se iCalcreator 2.30.10//
CALSCALE:GREGORIAN
METHOD:PUBLISH
UID:4e74b30a-7b46-4287-bd05-7e241cee611b
X-WR-CALDESC:The DSNMC Education Committee meets on the third Thursday of e
 ach month from 7:15 pm - 8:15 pm\, and new members are welcome to join the
  committee.\n\nCo-chairs: \nKalani Brown (kalaniuke@hotmail.com) and Carri
 e Swann (carrie.swann@gmail.com)
X-WR-RELCALID:a103c431b5551c8ffa68894afa3927dd
X-WR-TIMEZONE:America/New_York
BEGIN:VTIMEZONE
TZID:America/New_York
BEGIN:STANDARD
TZNAME:EST
DTSTART:20241103T020000
TZOFFSETFROM:-0400
TZOFFSETTO:-0500
RDATE:20251102T020000
END:STANDARD
BEGIN:DAYLIGHT
TZNAME:EDT
DTSTART:20240310T020000
TZOFFSETFROM:-0500
TZOFFSETTO:-0400
RDATE:20250309T020000
RDATE:20260308T020000
END:DAYLIGHT
END:VTIMEZONE
BEGIN:VEVENT
UID:8f2ab9c1-c914-4cfa-9ad2-79af2e74b8b3
DTSTAMP:20260419T120126Z
DESCRIPTION:The DSNMC Education Committee meets on the third Thursday of ea
 ch month from 7:15 pm - 8:15 pm\, and new members are welcome to join the 
 committee.\n\nCo-chairs: \nKalani Brown (kalaniuke@hotmail.com) and Carrie
  Swann (carrie.swann@gmail.com)
DTSTART;TZID=America/New_York:20250220T191500
DTEND;TZID=America/New_York:20250220T201500
LOCATION:
SUMMARY:DSNMC Education Committee Meeting
END:VEVENT
END:VCALENDAR
