BEGIN:VCALENDAR
VERSION:2.0
PRODID:-//dsnmc.org//NONSGML kigkonsult.se iCalcreator 2.30.10//
CALSCALE:GREGORIAN
METHOD:PUBLISH
UID:f5114cda-b46e-4518-82bd-8148c4c079d5
X-WR-CALDESC:We regret to inform you that we have canceled this upcoming wo
 rkshop!
X-WR-RELCALID:44d075297ad8066131e285b2412104ce
X-WR-TIMEZONE:America/New_York
BEGIN:VTIMEZONE
TZID:America/New_York
BEGIN:STANDARD
TZNAME:EST
DTSTART:20241103T020000
TZOFFSETFROM:-0400
TZOFFSETTO:-0500
RDATE:20251102T020000
END:STANDARD
BEGIN:DAYLIGHT
TZNAME:EDT
DTSTART:20240310T020000
TZOFFSETFROM:-0500
TZOFFSETTO:-0400
RDATE:20250309T020000
RDATE:20260308T020000
END:DAYLIGHT
END:VTIMEZONE
BEGIN:VEVENT
UID:93fc459d-e61a-461f-90b8-a450550eed75
DTSTAMP:20260419T120404Z
DESCRIPTION:We regret to inform you that we have canceled this upcoming wor
 kshop!
DTSTART;TZID=America/New_York:20250222T150000
DTEND;TZID=America/New_York:20250222T170000
LOCATION:6301 River Rd\, Bethesda\, MD 20817 US
SUMMARY:CANCELED: Adult (21+) SACN Dating & Relationships Kick-off Workshop
 /Taller Inaugural de Citas y Relaciones para Adultos (21+) SACN
END:VEVENT
END:VCALENDAR
